BEGIN:VCALENDAR
VERSION:2.0
PRODID:-//La Ferme Digitale - ECPv5.12.2//NONSGML v1.0//EN
CALSCALE:GREGORIAN
METHOD:PUBLISH
X-WR-CALNAME:La Ferme Digitale
X-ORIGINAL-URL:https://www.lafermedigitale.fr
X-WR-CALDESC:évènements pour La Ferme Digitale
REFRESH-INTERVAL;VALUE=DURATION:PT1H
X-Robots-Tag:noindex
X-PUBLISHED-TTL:PT1H
BEGIN:VTIMEZONE
TZID:Europe/Paris
BEGIN:DAYLIGHT
TZOFFSETFROM:+0100
TZOFFSETTO:+0200
TZNAME:CEST
DTSTART:20220327T010000
END:DAYLIGHT
BEGIN:STANDARD
TZOFFSETFROM:+0200
TZOFFSETTO:+0100
TZNAME:CET
DTSTART:20221030T010000
END:STANDARD
BEGIN:DAYLIGHT
TZOFFSETFROM:+0100
TZOFFSETTO:+0200
TZNAME:CEST
DTSTART:20230326T010000
END:DAYLIGHT
BEGIN:STANDARD
TZOFFSETFROM:+0200
TZOFFSETTO:+0100
TZNAME:CET
DTSTART:20231029T010000
END:STANDARD
BEGIN:DAYLIGHT
TZOFFSETFROM:+0100
TZOFFSETTO:+0200
TZNAME:CEST
DTSTART:20240331T010000
END:DAYLIGHT
BEGIN:STANDARD
TZOFFSETFROM:+0200
TZOFFSETTO:+0100
TZNAME:CET
DTSTART:20241027T010000
END:STANDARD
BEGIN:DAYLIGHT
TZOFFSETFROM:+0100
TZOFFSETTO:+0200
TZNAME:CEST
DTSTART:20250330T010000
END:DAYLIGHT
BEGIN:STANDARD
TZOFFSETFROM:+0200
TZOFFSETTO:+0100
TZNAME:CET
DTSTART:20251026T010000
END:STANDARD
END:VTIMEZONE
BEGIN:VEVENT
DTSTART;TZID=Europe/Paris:20250228T110000
DTEND;TZID=Europe/Paris:20250228T120000
DTSTAMP:20260421T145635
CREATED:20250213T165426Z
LAST-MODIFIED:20250214T104821Z
UID:18876-1740740400-1740744000@www.lafermedigitale.fr
SUMMARY:Résilience alimentaire : mesurer\, agir et transformer nos territoires.
DESCRIPTION:La résilience alimentaire est un enjeu majeur pour nos territoires face aux crises climatiques\, économiques et géopolitiques. Mais comment la mesurer concrètement pour mieux agir ? Cette conférence mettra en lumière l’importance de la donnée pour piloter des stratégies locales et passera en revue les leviers d’action concrets à travers des retours d’expérience de collectivités et d’acteurs engagés. \nLes intervenants : \n– Hermine Chombart de Lauwe\, Déléguée générale\, CNRA (Conseil National pour la Résilience Alimentaire)\n– Anabelle Coufourier-Ferrol\, Directrice du développement du territoire\, Communauté de communes Granville Terre et Mer\n– Isabelle Desclozeaux\, Responsable Projet Alimentaire Territorial\, Sodexo\n– Sébastien Roumegous\, Fondateur & CEO\, Biospheres \nConférence animée par Guillaume Vigneron\, Consultant AgTech\, onepoint
URL:https://www.lafermedigitale.fr/event/resilience-alimentaire-mesurer-agir-et-transformer-nos-territoiresla-resilience-alimentaire-est-un-enjeu-majeur-pour-nos-territoires-face-aux-crises-climatiques-economiques-et-geopolitiques-mais/
LOCATION:Hall 4 – Stand La Ferme Digitale (E080)
CATEGORIES:Alimentation / Filière
ATTACH;FMTTYPE=image/png:https://www.lafermedigitale.fr/wp-content/uploads/2023/01/Onepoint.png
END:VEVENT
BEGIN:VEVENT
DTSTART;TZID=Europe/Paris:20240226T160000
DTEND;TZID=Europe/Paris:20240226T165500
DTSTAMP:20260421T145635
CREATED:20240208T152717Z
LAST-MODIFIED:20240222T164304Z
UID:16096-1708963200-1708966500@www.lafermedigitale.fr
SUMMARY:Pas de transition sans financement : Comment valoriser le carbone agricole\, aujourd'hui et demain\, pour engager les agriculteurs ?
DESCRIPTION:Les crédits carbone en agriculture génèrent parfois doutes et interrogations. Décriés par certains comme peu rémunérateurs et à la traçabilité incertaine\, utilisés par d’autres comme « droits à polluer »\, ils pourraient être perçus\, de prime abord\, comme une occasion de s’offrir une conscience écologique sans changement substantiel. Cette conférence permettra de faire le point sur l’intérêt des initiatives en cours et leurs limites actuelles\, les nouveaux mécanismes mis en place pour permettre de garantir leur valeur et leur unicité\, ainsi que les nouvelles approches de contribution directe à la lutte contre le changement climatique (certificats d’impact positif englobant le carbone mais aussi la biodiversité\, l’eau et les bénéfices pour les communautés locales). Nous explorerons les voies de valorisation du carbone agricole au service d’une transition réelle et durable de la ferme France et la manière d’engager les agriculteurs dans ces pratiques durables\, en évitant les écueils des crédits carbone existants. \nAvec : \n\nJulien Guichard\, Carbon Credit Registry\,\nEmélie Halle\, SAIPOL\,\nThomas Rabant\, ReGeneration.
URL:https://www.lafermedigitale.fr/event/pas-de-transition-sans-financement-comment-valoriser-le-carbone-agricole-aujourdhui-et-demain-pour-engager-les-agriculteurs/
LOCATION:Hall 4 – Stand La Ferme Digitale (E074)
CATEGORIES:Alimentation / Filière
ATTACH;FMTTYPE=image/png:https://www.lafermedigitale.fr/wp-content/uploads/2022/01/Onepoint.png
END:VEVENT
BEGIN:VEVENT
DTSTART;TZID=Europe/Paris:20230302T100000
DTEND;TZID=Europe/Paris:20230302T105500
DTSTAMP:20260421T145635
CREATED:20230131T082057Z
LAST-MODIFIED:20230223T130655Z
UID:13923-1677751200-1677754500@www.lafermedigitale.fr
SUMMARY:Les défis de transition de l’agriculture française : quelle place pour les biostimulants ?
DESCRIPTION:Cette année au SIA\, nous nous emparons du thème de cette édition « le vivant au quotidien » pour aborder le sujet des biostimulants. Ces nouvelles solutions encouragent la réappropriation de logiques agronomiques dans les prises de décisions et revendiquent d’être une solution aux défis agricoles : \n\nrestauration des sols\nefficience de la nutrition des plantes\nbaisse des émissions de GES\nrésilience des plantes aux stress abiotiques toujours plus nombreux.\n\nNous donnerons la parole aux acteurs de ce marché en croissance afin de détailler le rôle et le positionnement de ces solutions\, la place des coopératives dans la distribution\, les enjeux d’accompagnement des agriculteurs à leur utilisation ainsi que l’évolution du cadre réglementaire. \nLes intervenants : \n\nLaetitia Fourié\, Présidente d’AFAÏA\nCharles Vaury\, Chief Transformation Officer chez Gaiago\nMatthieu Archambeaud\, CEO d’Icosystème
URL:https://www.lafermedigitale.fr/event/comment-les-biostimulants-peuvent-repondre-aux-defis-de-transition-de-lagriculture-francaise/
LOCATION:Hall 4 – Stand La Ferme Digitale (D069)
CATEGORIES:Élevage / Alimentation
ATTACH;FMTTYPE=image/png:https://www.lafermedigitale.fr/wp-content/uploads/2023/01/Onepoint.png
END:VEVENT
BEGIN:VEVENT
DTSTART;TZID=Europe/Paris:20220304T110000
DTEND;TZID=Europe/Paris:20220304T115500
DTSTAMP:20260421T145635
CREATED:20220126T110935Z
LAST-MODIFIED:20220221T095015Z
UID:11378-1646391600-1646394900@www.lafermedigitale.fr
SUMMARY:Smart farming\, comment dépasser l’expérimentation pour produire plus et mieux ?
DESCRIPTION:Les solutions autour du smart farming se multiplient : capteurs météo\, smart irrigation\, surveillance par drone des cultures\, analyse des sols\, outils d’aide à la décision… Cependant\, il existe encore peu d’exemples où le smart farming s’est développé à grande échelle avec un retour sur investissement mesurable pour les exploitants agricoles. Nous partirons d’exemples concrets (ex : Domaine Du Tariquet\, Axéréal) afin d’identifier où ils en sont et échanger ensemble sur les enjeux de développement du smart farming au service des agriculteurs et des agricultures ! \nLes intervenants : \n\nRémy Alonso\, Leader onepoint\nCapucine Laurent\, Partner onepoint\nThomas Monville\, Manager Innovation et Transition agronomique\, Axéréal\nHervé Pillaud\, agriculteur et Président du groupe Les Etablières\nYannick Sadowy\, Partner onepoint et secteur télécom\nArnault Trac\, associé de Weenat
URL:https://www.lafermedigitale.fr/event/les-enjeux-de-la-5g-dans-lagriculture/
LOCATION:Hall 4 – Stand La Ferme Digitale – Espace French AgriTech\, 1 Pl. de la Prte de Versailles\, Paris\, Île-de-France\, 75015\, France
CATEGORIES:AgTech
ATTACH;FMTTYPE=image/png:https://www.lafermedigitale.fr/wp-content/uploads/2022/01/Onepoint.png
END:VEVENT
END:VCALENDAR