BEGIN:VCALENDAR
VERSION:2.0
PRODID:-//La Ferme Digitale - ECPv5.12.2//NONSGML v1.0//EN
CALSCALE:GREGORIAN
METHOD:PUBLISH
X-WR-CALNAME:La Ferme Digitale
X-ORIGINAL-URL:https://www.lafermedigitale.fr
X-WR-CALDESC:évènements pour La Ferme Digitale
REFRESH-INTERVAL;VALUE=DURATION:PT1H
X-Robots-Tag:noindex
X-PUBLISHED-TTL:PT1H
BEGIN:VTIMEZONE
TZID:Europe/Paris
BEGIN:DAYLIGHT
TZOFFSETFROM:+0100
TZOFFSETTO:+0200
TZNAME:CEST
DTSTART:20220327T010000
END:DAYLIGHT
BEGIN:STANDARD
TZOFFSETFROM:+0200
TZOFFSETTO:+0100
TZNAME:CET
DTSTART:20221030T010000
END:STANDARD
BEGIN:DAYLIGHT
TZOFFSETFROM:+0100
TZOFFSETTO:+0200
TZNAME:CEST
DTSTART:20230326T010000
END:DAYLIGHT
BEGIN:STANDARD
TZOFFSETFROM:+0200
TZOFFSETTO:+0100
TZNAME:CET
DTSTART:20231029T010000
END:STANDARD
BEGIN:DAYLIGHT
TZOFFSETFROM:+0100
TZOFFSETTO:+0200
TZNAME:CEST
DTSTART:20240331T010000
END:DAYLIGHT
BEGIN:STANDARD
TZOFFSETFROM:+0200
TZOFFSETTO:+0100
TZNAME:CET
DTSTART:20241027T010000
END:STANDARD
END:VTIMEZONE
BEGIN:VEVENT
DTSTART;TZID=Europe/Paris:20240226T150000
DTEND;TZID=Europe/Paris:20240226T155500
DTSTAMP:20260421T145636
CREATED:20240208T152406Z
LAST-MODIFIED:20240223T165821Z
UID:16094-1708959600-1708962900@www.lafermedigitale.fr
SUMMARY:Comment s’assurer d’une transition environnementale durable ?
DESCRIPTION:Si les enjeux climatiques ne sont plus à démontrer ni l’importante contribution du secteur agricole\, il n’en reste pas moins que les leviers doivent s’inscrire dans une gestion pérenne de chaque exploitation agricole. Production d’énergie renouvelable au sein de sa ferme\, compensation carbone\, … pour se garantir une transition environnementale\, ces projets se préparent et s’accompagnent dans la durée. \nAvec : \n\nOlivier PARDESSUS – Responsable des offres et services Marché Agricole – GROUPAMA\nThomas Martal\, CEO de Stock CO2\n\nAnimé par Louise Lesparre\, La clé des Champs.
URL:https://www.lafermedigitale.fr/event/comment-sassurer-dune-transition-environnementale-durable/
LOCATION:Hall 4 – Stand La Ferme Digitale (E074)
CATEGORIES:Alimentation / Filière
ATTACH;FMTTYPE=image/png:https://www.lafermedigitale.fr/wp-content/uploads/2022/01/Groupama.png
END:VEVENT
BEGIN:VEVENT
DTSTART;TZID=Europe/Paris:20230227T110000
DTEND;TZID=Europe/Paris:20230227T115500
DTSTAMP:20260421T145636
CREATED:20230201T103006Z
LAST-MODIFIED:20230201T103006Z
UID:13998-1677495600-1677498900@www.lafermedigitale.fr
SUMMARY:Aléas climatiques sur cultures : Quelle place pour l’assurance paramétrique ?
DESCRIPTION:Accroître la résilience des exploitations agricoles face au dérèglement climatique est une problématique complexe. Dans ce contexte\, la place du numérique est de plus en plus interrogée. L’assurance n’échappe pas à ce questionnement. C’est ainsi qu’en s’appuyant sur la collecte et le traitement de nombreuses données (température\, pluviométrie\, taux d’humidité\, images …)\, l’assurance paramétrique ouvre d’importantes perspectives. Elle permet notamment d’automatiser les processus\, d’accélérer les traitements\, de traiter de très grandes surfaces et sur de longues périodes. Nous avons pu le voir dans le cas des prairies. Mais quelle place cette assurance occupera-t-elle demain ? Est-ce un outil comme les autres ou\, au contraire\, le « chainon manquant » de la Réforme de la Gestion des Risques en Agriculture ? Car l’enjeu est bien de construire le « nouveau régime universel d’indemnisation de perte de récoltes ». C’est à ces questions que tentera de répondre cette table ronde. \nAnimé par : Pascal Viné\, directeur des relations institutionnelles et des orientations mutualistes à Groupama Assurances Mutuelles.
URL:https://www.lafermedigitale.fr/event/aleas-climatiques-sur-cultures-quelle-place-pour-lassurance-parametrique/
LOCATION:Hall 4 – Stand La Ferme Digitale (D069)
CATEGORIES:AgTech
ATTACH;FMTTYPE=image/png:https://www.lafermedigitale.fr/wp-content/uploads/2023/01/Groupama.png
END:VEVENT
BEGIN:VEVENT
DTSTART;TZID=Europe/Paris:20220228T120000
DTEND;TZID=Europe/Paris:20220228T125500
DTSTAMP:20260421T145636
CREATED:20220127T172420Z
LAST-MODIFIED:20220127T172431Z
UID:11497-1646049600-1646052900@www.lafermedigitale.fr
SUMMARY:Innover avec un assureur\, mythe ou réalité ?
DESCRIPTION:Comment les start-up de l’Agtech et le monde de l’assurance œuvrent en synergie à la création de solutions innovantes pour accompagner les agriculteurs dans leurs défis et transitions. \nLes intervenants : \n\nSami Seqat\, Responsable Marketing\, Stratégie et Pilotage Marché Agricole chez Groupama\n Pablo Fernandez\, Fondateur et DG de Kuupanda
URL:https://www.lafermedigitale.fr/event/innover-avec-un-assureur-mythe-ou-realite/
LOCATION:Hall 4 – Stand La Ferme Digitale – Espace French AgriTech\, 1 Pl. de la Prte de Versailles\, Paris\, Île-de-France\, 75015\, France
CATEGORIES:AgTech
ATTACH;FMTTYPE=image/png:https://www.lafermedigitale.fr/wp-content/uploads/2022/01/Groupama.png
END:VEVENT
END:VCALENDAR