BEGIN:VCALENDAR
VERSION:2.0
PRODID:-//La Ferme Digitale - ECPv5.12.2//NONSGML v1.0//EN
CALSCALE:GREGORIAN
METHOD:PUBLISH
X-WR-CALNAME:La Ferme Digitale
X-ORIGINAL-URL:https://www.lafermedigitale.fr
X-WR-CALDESC:évènements pour La Ferme Digitale
REFRESH-INTERVAL;VALUE=DURATION:PT1H
X-Robots-Tag:noindex
X-PUBLISHED-TTL:PT1H
BEGIN:VTIMEZONE
TZID:Europe/Paris
BEGIN:DAYLIGHT
TZOFFSETFROM:+0100
TZOFFSETTO:+0200
TZNAME:CEST
DTSTART:20220327T010000
END:DAYLIGHT
BEGIN:STANDARD
TZOFFSETFROM:+0200
TZOFFSETTO:+0100
TZNAME:CET
DTSTART:20221030T010000
END:STANDARD
BEGIN:DAYLIGHT
TZOFFSETFROM:+0100
TZOFFSETTO:+0200
TZNAME:CEST
DTSTART:20230326T010000
END:DAYLIGHT
BEGIN:STANDARD
TZOFFSETFROM:+0200
TZOFFSETTO:+0100
TZNAME:CET
DTSTART:20231029T010000
END:STANDARD
BEGIN:DAYLIGHT
TZOFFSETFROM:+0100
TZOFFSETTO:+0200
TZNAME:CEST
DTSTART:20240331T010000
END:DAYLIGHT
BEGIN:STANDARD
TZOFFSETFROM:+0200
TZOFFSETTO:+0100
TZNAME:CET
DTSTART:20241027T010000
END:STANDARD
BEGIN:DAYLIGHT
TZOFFSETFROM:+0100
TZOFFSETTO:+0200
TZNAME:CEST
DTSTART:20250330T010000
END:DAYLIGHT
BEGIN:STANDARD
TZOFFSETFROM:+0200
TZOFFSETTO:+0100
TZNAME:CET
DTSTART:20251026T010000
END:STANDARD
BEGIN:DAYLIGHT
TZOFFSETFROM:+0100
TZOFFSETTO:+0200
TZNAME:CEST
DTSTART:20260329T010000
END:DAYLIGHT
BEGIN:STANDARD
TZOFFSETFROM:+0200
TZOFFSETTO:+0100
TZNAME:CET
DTSTART:20261025T010000
END:STANDARD
END:VTIMEZONE
BEGIN:VEVENT
DTSTART;TZID=Europe/Paris:20260227T110000
DTEND;TZID=Europe/Paris:20260227T120000
DTSTAMP:20260421T154249
CREATED:20260201T121129Z
LAST-MODIFIED:20260221T101023Z
UID:20784-1772190000-1772193600@www.lafermedigitale.fr
SUMMARY:Nouvelles technologies en élevage. Usage\, bénéfices et perspectives
DESCRIPTION:En élevage\, l’attractivité globale du métier est aujourd’hui une problématique majeure de l’activité\, en particulier du fait du difficile renouvellement des générations. De fait\, le recours aux nouvelles technologies peut être une réponse à cette problématique. L’étude présentée propose une analyse technique et financière de ces solutions d’aujourd’hui ou de demain. Cette analyse est une base solide de connaissances dans le domaine et permet d’avoir une approche objective et économique des projets d’investissement en nouvelles technologies en élevage. \nAvec Béatrice Eon de Chezelles\, experte en production animales\, Crédit Agricole
URL:https://www.lafermedigitale.fr/event/nouvelles-technologies-en-elevage-usage-benefices-et-perspectives/
LOCATION:Hall 5.2 – Stand La Ferme Digitale (D 100)\, Hall 5.2 - D 100
CATEGORIES:Elevage
ATTACH;FMTTYPE=image/png:https://www.lafermedigitale.fr/wp-content/uploads/2026/02/CASA-2026.png
END:VEVENT
BEGIN:VEVENT
DTSTART;TZID=Europe/Paris:20240227T110000
DTEND;TZID=Europe/Paris:20240227T115500
DTSTAMP:20260421T154249
CREATED:20240131T084333Z
LAST-MODIFIED:20240131T084414Z
UID:15964-1709031600-1709034900@www.lafermedigitale.fr
SUMMARY:Supernova Invest et Crédit Agricole ont lancé un fonds spécialisé dans l’agri-agro tech.
DESCRIPTION:Supernova Invest et le groupe Crédit Agricole ont lancé un fonds de capital innovation dédié à l’agri-agro tech avec un premier closing à 60 M€ et une taille cible de 100 M€. Ce fonds répond à un constat : l’agri-agro tech est constitué de briques technologies multiples (biotech\, hardware\, intelligence artificielle\,…) dont le succès exige la maîtrise de compétences technologiques et sectorielles diverses ainsi qu’une expertise sur les roadmaps de développement de produits complexes. Dans cette perspective\, le fonds se focalisera sur les start-ups françaises et européennes qui apporteront les meilleures solutions technologiques aux filières agri-agro afin de maintenir leur compétitivité et accélérer leur transformation industrielle pour plus de durabilité. \nAvec : \n\nRomain Sautrau\, Directeur Investissement\, Supernova Invest\nArnaud Rey\, Expert Innovation Agri & Agro – Direction de l’Agriculture et de l’Agroalimentaire\, Crédit Agricole SA
URL:https://www.lafermedigitale.fr/event/supernova-invest-et-credit-agricole-ont-lance-un-fonds-specialise-dans-lagri-agro-tech/
LOCATION:Hall 4 – Stand La Ferme Digitale (E074)
CATEGORIES:IA
ATTACH;FMTTYPE=image/png:https://www.lafermedigitale.fr/wp-content/uploads/2024/01/SuperNova-Invest-x-CASA.png
END:VEVENT
BEGIN:VEVENT
DTSTART;TZID=Europe/Paris:20230227T120000
DTEND;TZID=Europe/Paris:20230227T125500
DTSTAMP:20260421T154249
CREATED:20230130T174321Z
LAST-MODIFIED:20230130T174321Z
UID:13902-1677499200-1677502500@www.lafermedigitale.fr
SUMMARY:Face aux grands défis environnementaux\, sociétaux et agricoles\, le Crédit Agricole accompagne l’innovation\, au service des transitions.
DESCRIPTION:Face aux grands défis environnementaux\, sociétaux et agricoles\, le Crédit Agricole accompagne l’innovation\, au service des transitions. \nParce que l’agriculture sera toujours essentielle\, le Crédit Agricole s’engage à soutenir aujourd’hui et demain toutes les agricultures\, à encourager toutes les vocations et à accompagner les transitions et l’alimentation durable. Comment notre action\, nos métiers et nos offres s’adaptent et sont là pour accompagner l’évolution d’un secteur et plus largement celle de la société ? \nLes intervenants : \n\nClaire Coquillat – Responsable Animation marchés Agri & Agro – Crédit Agricole SA\nEmilie Raude – Déploiement et Animation du réseau Le Village by CA\nArnaud Rey – Expert innovation agri & agro – Crédit Agricole SA
URL:https://www.lafermedigitale.fr/event/face-aux-grands-defis-environnementaux-societaux-et-agricoles-le-credit-agricole-accompagne-linnovation-au-service-des-transitions/
LOCATION:Hall 4 – Stand La Ferme Digitale (D069)
CATEGORIES:AgTech
ATTACH;FMTTYPE=image/png:https://www.lafermedigitale.fr/wp-content/uploads/2023/01/Credit-Agricole.png
END:VEVENT
BEGIN:VEVENT
DTSTART;TZID=Europe/Paris:20220302T160000
DTEND;TZID=Europe/Paris:20220302T165500
DTSTAMP:20260421T154249
CREATED:20220208T174500Z
LAST-MODIFIED:20220208T174500Z
UID:11495-1646236800-1646240100@www.lafermedigitale.fr
SUMMARY:Comment l’innovation vient transformer nos systèmes alimentaires : le regard du Groupe Crédit Agricole.
DESCRIPTION:Nous devons faire face à un défi de taille : comment nourrir une population mondiale en hausse alors que les enjeux environnementaux sont toujours plus prégnants et que les attentes des consommateurs évoluent ? Dans ce contexte\, l’importance des enjeux agricoles suscite un intense effort d’innovation que le Groupe Crédit Agricole accompagne au travers de l’évolution des techniques vers un système agroalimentaire compétitif et durable. \nLes intervenants : \n\nArnaud Rey\, Ingénieur conseil Innovation Agri Agro\nPaul Halard\, Directeur de participations – IDIA Capital Investissement\nLe réseau des Villages by CA
URL:https://www.lafermedigitale.fr/event/comment-linnovation-vient-transformer-nos-systemes-alimentaires-le-regard-du-groupe-credit-agricole/
LOCATION:Hall 4 – Stand La Ferme Digitale – Espace French AgriTech\, 1 Pl. de la Prte de Versailles\, Paris\, Île-de-France\, 75015\, France
CATEGORIES:AgTech
ATTACH;FMTTYPE=image/png:https://www.lafermedigitale.fr/wp-content/uploads/2022/01/CA.png
END:VEVENT
END:VCALENDAR