BEGIN:VCALENDAR
VERSION:2.0
PRODID:-//La Ferme Digitale - ECPv5.12.2//NONSGML v1.0//EN
CALSCALE:GREGORIAN
METHOD:PUBLISH
X-WR-CALNAME:La Ferme Digitale
X-ORIGINAL-URL:https://www.lafermedigitale.fr
X-WR-CALDESC:évènements pour La Ferme Digitale
REFRESH-INTERVAL;VALUE=DURATION:PT1H
X-Robots-Tag:noindex
X-PUBLISHED-TTL:PT1H
BEGIN:VTIMEZONE
TZID:Europe/Paris
BEGIN:DAYLIGHT
TZOFFSETFROM:+0100
TZOFFSETTO:+0200
TZNAME:CEST
DTSTART:20240331T010000
END:DAYLIGHT
BEGIN:STANDARD
TZOFFSETFROM:+0200
TZOFFSETTO:+0100
TZNAME:CET
DTSTART:20241027T010000
END:STANDARD
BEGIN:DAYLIGHT
TZOFFSETFROM:+0100
TZOFFSETTO:+0200
TZNAME:CEST
DTSTART:20250330T010000
END:DAYLIGHT
BEGIN:STANDARD
TZOFFSETFROM:+0200
TZOFFSETTO:+0100
TZNAME:CET
DTSTART:20251026T010000
END:STANDARD
BEGIN:DAYLIGHT
TZOFFSETFROM:+0100
TZOFFSETTO:+0200
TZNAME:CEST
DTSTART:20260329T010000
END:DAYLIGHT
BEGIN:STANDARD
TZOFFSETFROM:+0200
TZOFFSETTO:+0100
TZNAME:CET
DTSTART:20261025T010000
END:STANDARD
END:VTIMEZONE
BEGIN:VEVENT
DTSTART;TZID=Europe/Paris:20260223T090000
DTEND;TZID=Europe/Paris:20260223T100000
DTSTAMP:20260421T152323
CREATED:20260201T100915Z
LAST-MODIFIED:20260201T100915Z
UID:20687-1771837200-1771840800@www.lafermedigitale.fr
SUMMARY:Crédits carbone agricoles : faire rimer robustesse et rémunération
DESCRIPTION:Les marchés volontaires du carbone agricole entrent dans une phase charnière. \nEntre défis de confiance et montée en puissance de standards plus robustes\, les acteurs du secteur font le point sur les dynamiques à l’œuvre : évolution du Label Bas Carbone\, arrivée du cadre européen CRCF\, retour d’expériences internationales (Verra\, Gold Standard\, Indigo) et nouveaux mécanismes de financement pour les agriculteurs. \nUne discussion ouverte sur la transparence\, la qualité et le rôle du collectif pour consolider un marché plus crédible\, plus lisible et centré sur la valeur créée au niveau des fermes. \nAvec : \n\nFrançois THIERART\, MyEaysyFarm\nMathieu TOULEMONDE\, Agoterra\nPaul MARTIN\, RéGénération\nFlavian IBLED\, Carbone Farmers\n\nEchange animé par Axel de MARTENE\, Climate Agriculture Alliance.
URL:https://www.lafermedigitale.fr/event/credits-carbone-agricoles-faire-rimer-robustesse-et-remuneration/
LOCATION:Hall 5.2 – Stand La Ferme Digitale (D 100)\, Hall 5.2 - D 100
CATEGORIES:Alimentation / Filière
ATTACH;FMTTYPE=image/png:https://www.lafermedigitale.fr/wp-content/uploads/2023/01/Climate-Agriculture-Alliance.png
END:VEVENT
BEGIN:VEVENT
DTSTART;TZID=Europe/Paris:20260222T150000
DTEND;TZID=Europe/Paris:20260222T160000
DTSTAMP:20260421T152323
CREATED:20260201T095900Z
LAST-MODIFIED:20260201T095900Z
UID:20680-1771772400-1771776000@www.lafermedigitale.fr
SUMMARY:Entrée en vigueur de CRCF\, « crédits nature » ; quelles dynamiques et quelles étapes pour le financement de la transition agricole en Europe ?
DESCRIPTION:Le CRCF et les « crédits nature » ouvrent une nouvelle ère pour le financement de la transition agricole. Cette conférence propose un échange dynamique autour des leviers\nconcrets à activer : comment financer le risque de démarrage\, articuler marché volontaire et démarches filières\, et élargir la valeur carbone aux co‑bénéfices de la biodiversité. \nUne vision d’ensemble pour comprendre les étapes clés du financement d’une agriculture régénératrice en Europe. \nAvec : \n\nChuck de LIEDEKERKE\, Soil Capital\, Président Climate Agriculture Alliance\nVanessa PEZET\, Gaïago\, Vice-Présidente Climate Agriculture Alliance\nAurore UNGERER\, Deloitte\n\nÉchange animé par Axel de MARTENE\, Climate Agriculture Alliance.
URL:https://www.lafermedigitale.fr/event/entree-en-vigueur-de-crcf-credits-nature-quelles-dynamiques-et-quelles-etapes-pour-le-financement-de-la-transition-agricole-en-europe/
LOCATION:Hall 5.2 – Stand La Ferme Digitale (D 100)\, Hall 5.2 - D 100
CATEGORIES:Sol, Carbone & Biodiversité
ATTACH;FMTTYPE=image/png:https://www.lafermedigitale.fr/wp-content/uploads/2023/01/Climate-Agriculture-Alliance.png
END:VEVENT
BEGIN:VEVENT
DTSTART;TZID=Europe/Paris:20250224T090000
DTEND;TZID=Europe/Paris:20250224T100000
DTSTAMP:20260421T152323
CREATED:20250124T093758Z
LAST-MODIFIED:20250206T165855Z
UID:18582-1740387600-1740391200@www.lafermedigitale.fr
SUMMARY:Marchés du carbone et environnement réglementaire: où va l’Europe?
DESCRIPTION:Alors que la nouvelle Commission européenne prend ses fonctions\, le « Carbon farming » devient un enjeu central des discussions sur l’avenir de l’agriculture et de l’alimentation.\nLa Climate Agriculture Alliance\, l’association européenne de l’agriculture bas carbone\, dévoilera les résultats du premier baromètre sur ces marchés et présentera un aperçu des perspectives européennes et des exigences futures en matière de transparence.
URL:https://www.lafermedigitale.fr/event/marches-du-carbone-et-environnement-reglementaire-ou-va-leurope/
LOCATION:Hall 4 – Stand La Ferme Digitale (E080)
CATEGORIES:Sol, Carbone & Biodiversité
ATTACH;FMTTYPE=image/png:https://www.lafermedigitale.fr/wp-content/uploads/2023/01/Climate-Agriculture-Alliance.png
END:VEVENT
BEGIN:VEVENT
DTSTART;TZID=Europe/Paris:20240226T090000
DTEND;TZID=Europe/Paris:20240226T095500
DTSTAMP:20260421T152323
CREATED:20240127T164700Z
LAST-MODIFIED:20240206T144525Z
UID:15842-1708938000-1708941300@www.lafermedigitale.fr
SUMMARY:Comment consolider la confiance dans les marchés du carbone agricole ?
DESCRIPTION:Presque 1 an après les révélations de la presse internationale sur la vaste commercialisation de « crédits fantômes » et alors que les institutions européennes veulent mettre en place un cadre européen pour les crédits carbone agricoles et pour les allégations de durabilité des entreprises\, comment installer la confiance parmi les acteurs pour soutenir ces transformations ? Quel rôle pour les plates-formes\, pour les pouvoirs publics et pour les acheteurs ? \nAvec : \n\nMathieu TOULEMONDE\, CEO et Fondateur\, Agoterra\nFélix NOBLIA\, paysan-chercheur\, Co-fondateur ReGeneration\nCaroline PLOUX\, Senior Manager Public Affairs Europe\, Mars\nModérateur : Axel de Martene Managing Director Climate Agriculture Alliance\n\nS’inscrire à la conférence : https://go.myeasyfarm.com/inscription-CAA-conference-sia-2024
URL:https://www.lafermedigitale.fr/event/comment-reconstruire-la-confiance-dans-les-marches-du-carbone-agricole/
LOCATION:Hall 4 – Stand La Ferme Digitale (E074)
CATEGORIES:Alimentation / Filière
ATTACH;FMTTYPE=image/png:https://www.lafermedigitale.fr/wp-content/uploads/2023/01/Climate-Agriculture-Alliance.png
END:VEVENT
END:VCALENDAR