BEGIN:VCALENDAR
VERSION:2.0
PRODID:-//La Ferme Digitale - ECPv5.12.2//NONSGML v1.0//EN
CALSCALE:GREGORIAN
METHOD:PUBLISH
X-WR-CALNAME:La Ferme Digitale
X-ORIGINAL-URL:https://www.lafermedigitale.fr
X-WR-CALDESC:évènements pour La Ferme Digitale
REFRESH-INTERVAL;VALUE=DURATION:PT1H
X-Robots-Tag:noindex
X-PUBLISHED-TTL:PT1H
BEGIN:VTIMEZONE
TZID:Europe/Paris
BEGIN:DAYLIGHT
TZOFFSETFROM:+0100
TZOFFSETTO:+0200
TZNAME:CEST
DTSTART:20250330T010000
END:DAYLIGHT
BEGIN:STANDARD
TZOFFSETFROM:+0200
TZOFFSETTO:+0100
TZNAME:CET
DTSTART:20251026T010000
END:STANDARD
END:VTIMEZONE
BEGIN:VEVENT
DTSTART;TZID=Europe/Paris:20250222T110000
DTEND;TZID=Europe/Paris:20250222T120000
DTSTAMP:20260421T225706
CREATED:20250131T110613Z
LAST-MODIFIED:20250213T090348Z
UID:18778-1740222000-1740225600@www.lafermedigitale.fr
SUMMARY:Former les entrepreneurs de demain : L’IA au service de l’enseignement agricole.
DESCRIPTION:Explorer le lien entre l’IA\, l’enseignement supérieur (notamment agricole pour UniLaSalle) et l’entrepreneuriat. EPA parlera de l’importance de sensibiliser les jeunes à l’entrepreneuriat et l’IA. L’APEX abordera son accompagnement auprès des étudiants porteurs de projets\, et comment est intégré l’IA dans cet accompagnement. Teravenir et Iterra parlerons de l’application de l’IA dans la création d’entreprise\, en particulier dans le milieu agricole. Des questions communes seront également posées pour créer l’échange. Si le temps le permet\, une session de questions-réponses avec le public sera prévu à la fin. \nLes intervenants: \n– Zacharya BOUGDOU\, porteurs de projet IA accompagné par BGE \n– Elise VERTIER\, Représentante EPA dans le cadre de la conférence\, Directrice d’Entreprendre Pour Apprendre Hauts-de-France \n– Benjamin MENDOU\, porteur du projet Teravenir\, incubé chez Iterra \n– Agathe VUILLEMENOT\, Directrice d’Iterra \nL’animateur: \nJérôme DANTAN\, Responsable de l’équipe Numérique et Management d’UniLaSalle Rouen – Responsable du Master of Science Ag&Food Data Management d’UniLaSallle- Enseignant Chercheur en informatique à UniLaSalle Rouen – Membre de l’unité de recherche AGHYLE d’UniLaSalle
URL:https://www.lafermedigitale.fr/event/former-les-entrepreneurs-de-demain-lia-au-service-de-lenseignement-agricole/
LOCATION:Hall 4 – Stand La Ferme Digitale (E080)
CATEGORIES:IA
END:VEVENT
BEGIN:VEVENT
DTSTART;TZID=Europe/Paris:20250222T120000
DTEND;TZID=Europe/Paris:20250222T130000
DTSTAMP:20260421T225706
CREATED:20250211T124942Z
LAST-MODIFIED:20250211T124942Z
UID:18846-1740225600-1740229200@www.lafermedigitale.fr
SUMMARY:No Data\, No IA – Comment l’IA peut aider les Agriculteurs
DESCRIPTION:Dans un monde où les technologies du numérique évoluent à une vitesse exponentielle\, comment faire pour aider le secteur agricole à en profiter à pleine puissance ? Étant dépendants des cycles des saisons\, nous constatons des difficultés pour les agriculteurs à utiliser correctement les nouvelles technologies : que faire pour les aider à franchir le cap ? Y a-t-il des solutions charnière ? Quels avantages pour les agriculteurs ? \n  \nIntervenants : \nThomas Collet – xFarm \nSami Yacoubi – xFarm
URL:https://www.lafermedigitale.fr/event/no-data-no-ia-comment-lia-peut-aider-les-agriculteurs/
LOCATION:Hall 4 – Stand La Ferme Digitale (E080)
CATEGORIES:IA
ATTACH;FMTTYPE=image/png:https://www.lafermedigitale.fr/wp-content/uploads/2025/02/X-Farm.png
END:VEVENT
BEGIN:VEVENT
DTSTART;TZID=Europe/Paris:20250222T130000
DTEND;TZID=Europe/Paris:20250222T140000
DTSTAMP:20260421T225706
CREATED:20250206T101730Z
LAST-MODIFIED:20250206T101730Z
UID:18816-1740229200-1740232800@www.lafermedigitale.fr
SUMMARY:L’IA au service de l’aquaculture : une production durable et simplifiée
DESCRIPTION:
URL:https://www.lafermedigitale.fr/event/lia-au-service-de-laquaculture-une-production-durable-et-simplifiee/
LOCATION:Hall 4 – Stand La Ferme Digitale (E080)
CATEGORIES:IA
ATTACH;FMTTYPE=image/png:https://www.lafermedigitale.fr/wp-content/uploads/2024/11/Blue-Planet-logo.png
END:VEVENT
BEGIN:VEVENT
DTSTART;TZID=Europe/Paris:20250222T150000
DTEND;TZID=Europe/Paris:20250222T160000
DTSTAMP:20260421T225706
CREATED:20250217T075525Z
LAST-MODIFIED:20250217T075525Z
UID:18918-1740236400-1740240000@www.lafermedigitale.fr
SUMMARY:De la ferme au client : 3 innovations pour optimiser la distribution en circuits courts en 2025
DESCRIPTION:Saviez-vous que lorsqu’un agriculteur vend en circuit court\, il devient aussi logisticien ? Gestion des stocks\, commandes\, facturation\, et livraisons — ces tâches souvent invisibles alourdissent le quotidien des producteurs et impactent leur rentabilité. \nContrairement aux idées reçues\, la logistique ne se résume pas au transport. Elle représente une chaîne complexe qu’il est essentiel d’optimiser pour rendre les circuits courts viables et compétitifs. \nCe que vous allez découvrir : Lors de cette conférence\, nous présenterons trois solutions numériques complémentaires qui permettent de mieux gérer les commandes\, optimiser les tournées de livraison\, et automatiser les tâches administratives. \nLes intervenants : \n\nLudovic de Beaurepaire – Fondateur de Socleo\nSébastien Hubert – Co-fondateur de Lisy.co\nLéna Peuvergne – Membre du Comité de Gouvernance de l’outil Logicout\n\nAnimatrice : Margaux Rusalen – Chargée de missions Produits Fermiers et Circuits Courts à Chambres d’Agriculture France
URL:https://www.lafermedigitale.fr/event/de-la-ferme-au-client-3-innovations-pour-optimiser-la-distribution-en-circuits-courts-en-2025/
LOCATION:Hall 4 – Stand La Ferme Digitale (E080)
CATEGORIES:IA
ATTACH;FMTTYPE=image/png:https://www.lafermedigitale.fr/wp-content/uploads/2025/02/Socleo-lisy.png
END:VEVENT
BEGIN:VEVENT
DTSTART;TZID=Europe/Paris:20250222T160000
DTEND;TZID=Europe/Paris:20250222T170000
DTSTAMP:20260421T225706
CREATED:20250219T141030Z
LAST-MODIFIED:20250219T141031Z
UID:19133-1740240000-1740243600@www.lafermedigitale.fr
SUMMARY:L'agrivoltaisme face aux défis climatiques et agricoles. Résultats et Innovations 2024
DESCRIPTION:Les agriculteurs face au défi de la résilience climatique. Panorama des filières et des régions les plus touchées en 2020-2025 par des extrêmes climatiques. Comment L’IA et l’agrivoltaisme dynamique peuvent sécuriser et lisser les productions agricoles. Découvrez nos derniers résultats et nos innovations 2025. \nLes intervenants : \n\nCécile Magherini\, Directrice de Sun’Agri\nNathanaël Kasriel\, Directeur de la recherche\nAdrien Clair\, Clair Fruits\n\nAnimatrice : Eva Bastide\, Directrice Communication\, Sun’r
URL:https://www.lafermedigitale.fr/event/lagrivoltaisme-face-aux-defis-climatiques-et-agricoles-resultats-et-innovations-2024/
LOCATION:Hall 4 – Stand La Ferme Digitale (E080)
CATEGORIES:IA
ATTACH;FMTTYPE=image/png:https://www.lafermedigitale.fr/wp-content/uploads/2019/09/SunAgri-2024.png
ORGANIZER;CN="Sun%27Agri":MAILTO:contact@sunagri.fr
END:VEVENT
BEGIN:VEVENT
DTSTART;TZID=Europe/Paris:20250222T170000
DTEND;TZID=Europe/Paris:20250222T180000
DTSTAMP:20260421T225706
CREATED:20250219T145202Z
LAST-MODIFIED:20250219T145202Z
UID:19143-1740243600-1740247200@www.lafermedigitale.fr
SUMMARY:Conférence d'ouverture de La Ferme Digitale
DESCRIPTION:
URL:https://www.lafermedigitale.fr/event/conference-douverture-de-la-ferme-digitale-2/
LOCATION:Hall 4 – Stand La Ferme Digitale (E080)
CATEGORIES:IA
END:VEVENT
BEGIN:VEVENT
DTSTART;TZID=Europe/Paris:20250223T100000
DTEND;TZID=Europe/Paris:20250223T110000
DTSTAMP:20260421T225706
CREATED:20250214T151323Z
LAST-MODIFIED:20250214T151323Z
UID:18898-1740304800-1740308400@www.lafermedigitale.fr
SUMMARY:L’AgriDigital : construire des ponts entre la France et le Maroc
DESCRIPTION:À travers des échanges entre représentants de startups\, acteurs publics et privés\, cette table ronde vise à identifier les axes stratégiques et initiatives sur lesquels la France et le Maroc pourraient collaborer afin de développer davantage l’AgriDigital et mener vers une agriculture plus résiliente : \nAccès aux technologies et savoir faire : montrer comment le partage et le transfert des technologies et des connaissances entre les deux pays peuvent aider à améliorer les pratiques agricoles et la gestion des ressources \nDéveloppement de talents : mettre en lumière la formation dans les domaines de l’agritech comme un levier pour stimuler l’emploi et comment tisser des liens entre les établissements universitaires en France et au Maroc \nCréation de marchés bilatéraux : discuter des opportunités pour les startups\, fournisseurs de technologies et entreprises agricoles des deux pays pour pénétrer de nouveaux marchés\, augmenter les exportations et élargir leur clientèle et encourager le déploiement de projets pilotes et de démonstrations \nLes intervenants : \n\n\nLoubna El Mansouri\, Directrice du Pôle Digital \n\n\nRachid Benali\, Président de la COMADER \n\nA venir..
URL:https://www.lafermedigitale.fr/event/lagridigital-construire-des-ponts-entre-la-france-et-le-maroc/
LOCATION:Hall 4 – Stand La Ferme Digitale (E080)
CATEGORIES:Alimentation / Filière
ATTACH;FMTTYPE=image/png:https://www.lafermedigitale.fr/wp-content/uploads/2025/01/Pole-Digital-Maroc.png
END:VEVENT
BEGIN:VEVENT
DTSTART;TZID=Europe/Paris:20250223T110000
DTEND;TZID=Europe/Paris:20250223T120000
DTSTAMP:20260421T225706
CREATED:20250206T101933Z
LAST-MODIFIED:20250206T101933Z
UID:18819-1740308400-1740312000@www.lafermedigitale.fr
SUMMARY:La transition agroécologique : Innovations et défis pour une agriculture durable
DESCRIPTION:Les principaux sujets abordés seront : \nInnovations technologiques : Présentation des nouvelles technologies et solutions numériques qui soutiennent la transition agroécologique.\nPratiques agricoles durables : Discussion sur les pratiques agricoles qui favorisent la biodiversité\, réduisent l’utilisation des pesticides et des engrais chimiques\, et améliorent la gestion des ressources naturelles.\nDéfis et opportunités : Analyse des défis à surmonter pour une transition réussie et des opportunités offertes par l’agroécologie pour les agriculteurs et les consommateurs.
URL:https://www.lafermedigitale.fr/event/la-transition-agroecologique-innovations-et-defis-pour-une-agriculture-durable/
LOCATION:Hall 4 – Stand La Ferme Digitale (E080)
CATEGORIES:Alimentation / Filière
ATTACH;FMTTYPE=image/png:https://www.lafermedigitale.fr/wp-content/uploads/2016/11/Axioma-1.png
ORGANIZER;CN="AXIOMA%20Biologicals":MAILTO:magali.maze@axioma-france.com
END:VEVENT
BEGIN:VEVENT
DTSTART;TZID=Europe/Paris:20250223T140000
DTEND;TZID=Europe/Paris:20250223T150000
DTSTAMP:20260421T225706
CREATED:20250129T095414Z
LAST-MODIFIED:20250129T102743Z
UID:18745-1740319200-1740322800@www.lafermedigitale.fr
SUMMARY:L’évolution du groupe familiale en parallèle de l’évolution des pratiques agricoles.
DESCRIPTION:L’objectif sera de mettre en avant l’histoire du groupe\, de ses valeurs et du lien entre nos innovations et les évolutions des pratiques agricoles. Le fil conducteur : le livre sorti fin 2024.
URL:https://www.lafermedigitale.fr/event/levolution-du-groupe-familiale-en-parallele-de-levolution-des-pratiques-agricoles/
LOCATION:Hall 4 – Stand La Ferme Digitale (E080)
CATEGORIES:Alimentation / Filière
ATTACH;FMTTYPE=image/png:https://www.lafermedigitale.fr/wp-content/uploads/2024/04/Vensys-Group.png
END:VEVENT
BEGIN:VEVENT
DTSTART;TZID=Europe/Paris:20250223T160000
DTEND;TZID=Europe/Paris:20250223T170000
DTSTAMP:20260421T225706
CREATED:20250206T140009Z
LAST-MODIFIED:20250206T140009Z
UID:18835-1740326400-1740330000@www.lafermedigitale.fr
SUMMARY:Les enjeux du renouvellement des générations pour les petites coops
DESCRIPTION:
URL:https://www.lafermedigitale.fr/event/les-enjeux-du-renouvellement-des-generations-pour-les-petites-coops/
LOCATION:Hall 4 – Stand La Ferme Digitale (E080)
CATEGORIES:Alimentation / Filière
ATTACH;FMTTYPE=image/png:https://www.lafermedigitale.fr/wp-content/uploads/2022/05/ELOI.png
END:VEVENT
BEGIN:VEVENT
DTSTART;TZID=Europe/Paris:20250223T170000
DTEND;TZID=Europe/Paris:20250223T180000
DTSTAMP:20260421T225706
CREATED:20250214T150315Z
LAST-MODIFIED:20250214T150315Z
UID:18896-1740330000-1740333600@www.lafermedigitale.fr
SUMMARY:API au service des bonnes pratiques agro-écologiques
DESCRIPTION:Reprendre les données économiques des agriculteurs pour en faire des portraits de ferme (fermoscopie) efficacement\, en passant par des connecteurs entre Ekylibre et Triple Performance\, l’utilisation créative de Google Spreadsheet et des trames d’interviews efficaces ? \nVenez découvrir comment le Centre National d’Agroécologie\, Ver de Terre production\, Ekylibre et Triple Performance ont mis leurs compétences et leur technologies en lien pour accélérer l’accès à la connaissance agroécologique. \nAvec : \n\nDavid Joulin\, CEO d’Ekylibre\,\nBertrand George\, Co-fondateur Neayi Triple Performance
URL:https://www.lafermedigitale.fr/event/api-au-service-des-bonnes-pratiques-agro-ecologiques/
LOCATION:Hall 4 – Stand La Ferme Digitale (E080)
CATEGORIES:Alimentation / Filière
ATTACH;FMTTYPE=image/png:https://www.lafermedigitale.fr/wp-content/uploads/2022/01/Ekylibre-VDEF.png
END:VEVENT
END:VCALENDAR