BEGIN:VCALENDAR
VERSION:2.0
PRODID:-//La Ferme Digitale - ECPv5.12.2//NONSGML v1.0//EN
CALSCALE:GREGORIAN
METHOD:PUBLISH
X-WR-CALNAME:La Ferme Digitale
X-ORIGINAL-URL:https://www.lafermedigitale.fr
X-WR-CALDESC:évènements pour La Ferme Digitale
REFRESH-INTERVAL;VALUE=DURATION:PT1H
X-Robots-Tag:noindex
X-PUBLISHED-TTL:PT1H
BEGIN:VTIMEZONE
TZID:Europe/Paris
BEGIN:DAYLIGHT
TZOFFSETFROM:+0100
TZOFFSETTO:+0200
TZNAME:CEST
DTSTART:20250330T010000
END:DAYLIGHT
BEGIN:STANDARD
TZOFFSETFROM:+0200
TZOFFSETTO:+0100
TZNAME:CET
DTSTART:20251026T010000
END:STANDARD
END:VTIMEZONE
BEGIN:VEVENT
DTSTART;TZID=Europe/Paris:20250227T090000
DTEND;TZID=Europe/Paris:20250227T100000
DTSTAMP:20260421T182124
CREATED:20250217T174059Z
LAST-MODIFIED:20250219T110232Z
UID:18966-1740646800-1740650400@www.lafermedigitale.fr
SUMMARY:Accélérer par l’innovation et le numérique la transition agroécologique de la filière oléo-protéagineuse
DESCRIPTION:Découvrez comment Sofiprotéol\, en tant que gestionnaire du fonds interprofessionnel FASO\, La Ferme Digitale et Terres Inovia unissent leurs forces pour accélérer la transition agroécologique de la filière oléo-protéagineuse à travers l’innovation et le numérique. \nLa production française de graines riches en huiles et protéines végétales\, telles que colza\, tournesol\, lin\, soja\, pois\, féverole\, lupin\, lentille\, et pois chiche apporte une contribution indéniable aux équilibres nutritionnels et agro-environnementaux. Néanmoins\, de nombreux défis techniques et économiques subsistent pour améliorer la durabilité de cette production sans compromettre sa compétitivité. \nPlongez dans les thématiques prioritaires de recherche de cette filière et ses mécanismes de soutien à l’innovation\, dont le lancement d’un appel à projets avec la découverte des lauréats et de leurs projets innovants. \nLes intervenants : \n\nAntoine DAULTON\, Directeur innovation et filières – Sofiprotéol\nJean-René MENIER\, Agriculteur et Secrétaire de la FOP\nAfsaneh LELALLHI\, Directrice adjointe – Terres Inovia\nRomain FAROUX\, Directeur des opérations – La Ferme Digitale\nLauréats de l’appel à projets 2025
URL:https://www.lafermedigitale.fr/event/accelerer-par-linnovation-et-le-numerique-la-transition-agroecologique-de-la-filiere-oleo-proteagineuse/
LOCATION:Hall 4 – Stand La Ferme Digitale (E080)
CATEGORIES:Eau / Energie
ATTACH;FMTTYPE=image/png:https://www.lafermedigitale.fr/wp-content/uploads/2024/04/Sofiproteol.png
END:VEVENT
BEGIN:VEVENT
DTSTART;TZID=Europe/Paris:20250227T100000
DTEND;TZID=Europe/Paris:20250227T110000
DTSTAMP:20260421T182124
CREATED:20250214T164244Z
LAST-MODIFIED:20250214T164244Z
UID:18905-1740650400-1740654000@www.lafermedigitale.fr
SUMMARY:Collaborer pour Innover : Quand startups et grands groupes s'unissent au service de l'agriculture régénératrice
DESCRIPTION:Comment construire des collaborations fructueuses entre startups et grands groupes ? Cette conférence met en avant trois duos ayant uni leurs expertises au service de l’agriculture régénératrice. À travers leurs retours d’expérience\, découvrez les leviers et bonnes pratiques pour réussir ces partenariats et innover ensemble. \nIntervenants : \n– Sonia Le Masne (Directrice RSE)\, \n-MARTELL MUMM PERRIER JOUËT (Pernod Ricard) \n– Sébastien Roumegou (CEO)\, BIOSPHERES \n-Victor Parmentier (Sustainable Resource Manager)\, NESTLÉ \n-Alexandre Viennot (Responsable développement commercial)\, KERMAP \n-Armand Gandon (Chef de projet Bas Carbone et Transitions)\, VIVESCIA \n-Peggy Cariou (Responsable Déploiement)\, WIUZ
URL:https://www.lafermedigitale.fr/event/collaborer-pour-innover-quand-startups-et-grands-groupes-sunissent-au-service-de-lagriculture-regeneratrice/
LOCATION:Hall 4 – Stand La Ferme Digitale (E080)
CATEGORIES:Eau / Energie
ATTACH;FMTTYPE=image/png:https://www.lafermedigitale.fr/wp-content/uploads/2024/12/Quest-for-Change.png
END:VEVENT
BEGIN:VEVENT
DTSTART;TZID=Europe/Paris:20250227T120000
DTEND;TZID=Europe/Paris:20250227T130000
DTSTAMP:20260421T182124
CREATED:20250124T163900Z
LAST-MODIFIED:20250206T135448Z
UID:18611-1740657600-1740661200@www.lafermedigitale.fr
SUMMARY:Comment dérisquer la transition agroécologique pour les agriculteurs ?
DESCRIPTION:Intervenants: \nAssolia : Rémy Dangla\, Co-fondateur\nArterris : à valider mais surement Marc Reymond\,directeur Innovation\nGroupama: j’attends le nom définitif
URL:https://www.lafermedigitale.fr/event/comment-derisquer-la-transition-agroecologique-pour-les-agriculteurs/
LOCATION:Hall 4 – Stand La Ferme Digitale (E080)
CATEGORIES:Eau / Energie
ATTACH;FMTTYPE=image/png:https://www.lafermedigitale.fr/wp-content/uploads/2022/10/Assolia-1.png
ORGANIZER;CN="Assolia":MAILTO:contact@assolia.com
END:VEVENT
BEGIN:VEVENT
DTSTART;TZID=Europe/Paris:20250227T130000
DTEND;TZID=Europe/Paris:20250227T140000
DTSTAMP:20260421T182124
CREATED:20250214T145219Z
LAST-MODIFIED:20250214T145219Z
UID:18882-1740661200-1740664800@www.lafermedigitale.fr
SUMMARY:Partages : Évaluer pour décider et reporter\, mesurer pour agir et étalonner
DESCRIPTION:L’agriculture régénérative nécessite des indicateurs fiables pour mesurer son impact\, piloter les transitions et structurer les prises de décision. Cette conférence mettra en lumière des approches concrètes pour évaluer et accompagner les pratiques agricoles durables. \nInterventions : \nRegenAg et hydrologie : L’approche « bassin versant » avec Clarins :\n– Sandrine Milesi – Clarins\n– Clémence Perrin – Biosphères \nRegenAg et passage à l’échelle : Exemples polonais et hongrois avec Mars :\n– Claire Petit – Mars\n– Alexis Bach – Biosphères Intl \nMRV/MIS : Évaluer en transparence avec Planet Score :\n– Sabine Bonnot – Planet Score\n– Alexis Bach – Biosphères Intl \nMRV/MIS : Évaluer pour piloter et mesurer pour agir :\n– Sabine Bonnot – Planet Score\n– Alexis Bach – Biosphères Intl \n 
URL:https://www.lafermedigitale.fr/event/partages-evaluer-pour-decider-et-reporter-mesurer-pour-agir-et-etalonner/
LOCATION:Hall 4 – Stand La Ferme Digitale (E080)
CATEGORIES:Eau / Energie
ATTACH;FMTTYPE=image/png:https://www.lafermedigitale.fr/wp-content/uploads/2025/02/Biosphères-2702.png
END:VEVENT
BEGIN:VEVENT
DTSTART;TZID=Europe/Paris:20250227T140000
DTEND;TZID=Europe/Paris:20250227T150000
DTSTAMP:20260421T182124
CREATED:20250123T163105Z
LAST-MODIFIED:20250206T135605Z
UID:18563-1740664800-1740668400@www.lafermedigitale.fr
SUMMARY:Agriculture Régénérative\, Scope 3\, Crédits Carbone : Stratégies et Outils pour Valoriser et Accélérer la Transition des Chaînes de Valeur Agroalimentaires.
DESCRIPTION:Dans un contexte de transition agroécologique et de pression croissante sur les chaînes de valeur agroalimentaires pour réduire leur empreinte carbone\, cette conférence explore trois leviers stratégiques : l’agriculture régénératrice\, le calcul des émissions Scope 3\, et les crédits carbone. Elle vise à éclairer les acteurs sur les solutions concrètes et innovantes disponibles pour répondre aux défis environnementaux et valoriser les pratiques durables. \nIntervenants: \n– Ughau Debreu Saint Louis Sucre – Responsable de la Durabilité Agricole\n– Emilie Miege Ecoact – Manager Expert Secteur Agricole et Agroalimentaire\n– Sébastien Roumégous Biosphères – CEO & Fondateur\n– François Thierart MyEasyFarm – CEO & Co-Fondateur\n– Céline Cauhape\, Innovation Leader Lidea
URL:https://www.lafermedigitale.fr/event/agriculture-regenerative-scope-3-credits-carbone-strategies-et-outils-pour-valoriser-et-accelerer-la-transition-des-chaines-de-valeur-agroalimentaires/
LOCATION:Hall 4 – Stand La Ferme Digitale (E080)
CATEGORIES:Eau / Energie
ATTACH;FMTTYPE=image/jpeg:https://www.lafermedigitale.fr/wp-content/uploads/2019/08/myesayfarm.jpg
ORGANIZER;CN="MyEasyFarm":MAILTO:contact@myeasyfarm.com
END:VEVENT
BEGIN:VEVENT
DTSTART;TZID=Europe/Paris:20250227T150000
DTEND;TZID=Europe/Paris:20250227T160000
DTSTAMP:20260421T182124
CREATED:20250203T161735Z
LAST-MODIFIED:20250203T161812Z
UID:18801-1740668400-1740672000@www.lafermedigitale.fr
SUMMARY:Du champ au moulin : récit du développement d'une filière répondant aux enjeux climat des industriels de la boulangerie
DESCRIPTION:Intervenants: \n– Jean-Philippe Nicot (Nicot Meunerie)\n– Martin Lechenet (Alliance BFC)\n– Alain Caekaert (Cérévia)\n– Luc Bailly (ReSoil)
URL:https://www.lafermedigitale.fr/event/du-champ-au-moulin-recit-du-developpement-dune-filiere-repondant-aux-enjeux-climat-des-industriels-de-la-boulangerie/
LOCATION:Hall 4 – Stand La Ferme Digitale (E080)
CATEGORIES:Eau / Energie
ATTACH;FMTTYPE=image/png:https://www.lafermedigitale.fr/wp-content/uploads/2024/11/ResoilCanva-png.png
END:VEVENT
BEGIN:VEVENT
DTSTART;TZID=Europe/Paris:20250227T170000
DTEND;TZID=Europe/Paris:20250227T180000
DTSTAMP:20260421T182124
CREATED:20250214T163601Z
LAST-MODIFIED:20250226T090150Z
UID:18901-1740675600-1740679200@www.lafermedigitale.fr
SUMMARY:Accélérer la transition vers une agriculture durable au travers de l’innovation et la digitalisation.
DESCRIPTION:Illustration avec le programme Harmony\, un exemple pionnier en France pour protéger la biodiversité\, lutter contre le changement climatique et soutenir la transition agroécologique. \nProblématique : Comment l’innovation et la digitalisation peuvent-elles transformer l’agriculture pour répondre aux défis environnementaux actuels tout en construisant un modèle résilient pour demain ? \nLes intervenants : \n– Guillaume Sauzay\, Directeur du Programme Harmony – Mondelez international\n– Marie Liétard-Montigny\, Directrice grands comptes France Espagne au sein d’Improvin\n– Amandine Lefebvre\, Animatrice filières et innovations au sein de la Coopérative Terre Atlantique \nModérateur de la conférence : Jérôme Leroy\, Fondateur de Weenat et Président de La Ferme Digitale.
URL:https://www.lafermedigitale.fr/event/18901/
LOCATION:Hall 4 – Stand La Ferme Digitale (E080)
CATEGORIES:Eau / Energie
ATTACH;FMTTYPE=image/png:https://www.lafermedigitale.fr/wp-content/uploads/2025/02/Mondelez.png
END:VEVENT
BEGIN:VEVENT
DTSTART;TZID=Europe/Paris:20250227T180000
DTEND;TZID=Europe/Paris:20250227T190000
DTSTAMP:20260421T182124
CREATED:20250123T163224Z
LAST-MODIFIED:20250128T140155Z
UID:18561-1740679200-1740682800@www.lafermedigitale.fr
SUMMARY:L'élevage d'insectes au cœur des fermes\, un pas vers une agriculture régénératrice ?
DESCRIPTION:En s’implantant au sein des exploitations agricoles\, l’élevage d’insectes devient pour l’agriculteur un atelier complémentaire à haute performance énergétique\, nécessitant peu de ressources et à faible impact environnemental. Mais pour tendre vers une agriculture régénératrice\, réduire les impacts négatifs ne suffit pas. Alors quels sont les atouts cachés du ténébrion meunier ? Source de revenu indépendante des aléas climatiques pour l’agriculteur\, atout dans la préservation d’un sol vivant\, levier pour la santé et le bien-être des animaux\, l’élevage d’insectes ouvre une nouvelle voie vers une agriculture régénératrice.
URL:https://www.lafermedigitale.fr/event/lelevage-dinsectes-au-coeur-des-fermes-un-pas-vers-une-agriculture-regeneratrice/
LOCATION:Hall 4 – Stand La Ferme Digitale (E080)
CATEGORIES:Eau / Energie
ATTACH;FMTTYPE=image/png:https://www.lafermedigitale.fr/wp-content/uploads/2022/05/Invers.png
ORGANIZER;CN="Invers":MAILTO:sebastien.crepieux@invers.fr
END:VEVENT
END:VCALENDAR