BEGIN:VCALENDAR
VERSION:2.0
PRODID:-//La Ferme Digitale - ECPv5.12.2//NONSGML v1.0//EN
CALSCALE:GREGORIAN
METHOD:PUBLISH
X-WR-CALNAME:La Ferme Digitale
X-ORIGINAL-URL:https://www.lafermedigitale.fr
X-WR-CALDESC:évènements pour La Ferme Digitale
REFRESH-INTERVAL;VALUE=DURATION:PT1H
X-Robots-Tag:noindex
X-PUBLISHED-TTL:PT1H
BEGIN:VTIMEZONE
TZID:Europe/Paris
BEGIN:DAYLIGHT
TZOFFSETFROM:+0100
TZOFFSETTO:+0200
TZNAME:CEST
DTSTART:20250330T010000
END:DAYLIGHT
BEGIN:STANDARD
TZOFFSETFROM:+0200
TZOFFSETTO:+0100
TZNAME:CET
DTSTART:20251026T010000
END:STANDARD
END:VTIMEZONE
BEGIN:VEVENT
DTSTART;TZID=Europe/Paris:20250226T090000
DTEND;TZID=Europe/Paris:20250226T100000
DTSTAMP:20260421T182037
CREATED:20250124T163132Z
LAST-MODIFIED:20250124T163132Z
UID:18604-1740560400-1740564000@www.lafermedigitale.fr
SUMMARY:Agriculture : le point de vente automatique nouvel outil de conquête des territoires et des terroirs
DESCRIPTION:Optimisation des rendements\, gestion durable de l’eau\, anticipation des maladies ou des aléas climatiques : les enjeux des coopératives et des filières agricoles sont plus que jamais étroitement liés à la météo et au climat.\nParmi ces acteurs engagés\, nos intervenants viendront partager leur expérience et leurs réussites. Avec l’appui des solutions Weenat\, ils relèvent ces défis et transforment leurs pratiques au quotidien.\nPlongez dans des retours d’expérience concrets et découvrez comment Weenat contribue à construire l’agriculture de demain.
URL:https://www.lafermedigitale.fr/event/agriculture-le-point-de-vente-automatique-nouvel-outil-de-conquete-des-territoires-et-des-terroirs/
LOCATION:Hall 4 – Stand La Ferme Digitale (E080)
CATEGORIES:Élevage / Alimentation
ATTACH;FMTTYPE=image/png:https://www.lafermedigitale.fr/wp-content/uploads/2024/11/Mon-casier-frais-1.png
END:VEVENT
BEGIN:VEVENT
DTSTART;TZID=Europe/Paris:20250226T100000
DTEND;TZID=Europe/Paris:20250226T110000
DTSTAMP:20260421T182037
CREATED:20250124T104906Z
LAST-MODIFIED:20250217T132207Z
UID:18588-1740564000-1740567600@www.lafermedigitale.fr
SUMMARY:Agriculture régénératrice : comment la déployer à grande échelle ? L’exemple de Nestlé et de Bonduelle.
DESCRIPTION:Comment déployer massivement l’agriculture régénératrice au sein de son entreprise ? Quels dispositifs et quels outils mettre en place pour former l’ensemble de ses collaborateurs à l’agriculture régénératrice dont les métiers sont différents et a fortiori situés dans des zones géographiques variées ? \nIntervenants: \n– Matthieu Archambeaud\, CEO et président chez Icosystème\n– Thomas Peyrachon\, Regenerative Agriculture Manager chez Nestlé\n– Jean Harent\, agriculteur grandes cultures dans la Somme\n– Bertrand menu\, Chef de projets – Agro Groupe – pôle performance chez Bonduelle\n– Cédric Bergerot\, Responsable Recherche & Innovation Agro Sud-Ouest BELL et Chef de plaine Maïs Doux Soléal
URL:https://www.lafermedigitale.fr/event/agriculture-regeneratrice-comment-la-deployer-massivement-lexemple-de-nestle-et-de-bonduelle/
LOCATION:Hall 4 – Stand La Ferme Digitale (E080)
CATEGORIES:Élevage / Alimentation
ATTACH;FMTTYPE=image/png:https://www.lafermedigitale.fr/wp-content/uploads/2025/01/Icosysteme.png
END:VEVENT
BEGIN:VEVENT
DTSTART;TZID=Europe/Paris:20250226T110000
DTEND;TZID=Europe/Paris:20250226T120000
DTSTAMP:20260421T182037
CREATED:20250124T163715Z
LAST-MODIFIED:20250124T163715Z
UID:18609-1740567600-1740571200@www.lafermedigitale.fr
SUMMARY:Avec le projet Pulsar\, le lupin passe du champ à nos assiettes !
DESCRIPTION:
URL:https://www.lafermedigitale.fr/event/avec-le-projet-pulsar-le-lupin-passe-du-champ-a-nos-assiettes/
LOCATION:Hall 4 – Stand La Ferme Digitale (E080)
CATEGORIES:Élevage / Alimentation
ATTACH;FMTTYPE=image/png:https://www.lafermedigitale.fr/wp-content/uploads/2022/01/ESA-VDEF.png
ORGANIZER;CN="ESA%20Angers":MAILTO:info-orientation@groupe-esa.com
END:VEVENT
BEGIN:VEVENT
DTSTART;TZID=Europe/Paris:20250226T120000
DTEND;TZID=Europe/Paris:20250226T130000
DTSTAMP:20260421T182037
CREATED:20250129T104222Z
LAST-MODIFIED:20250206T135355Z
UID:18770-1740571200-1740574800@www.lafermedigitale.fr
SUMMARY:Volatilité des prix agricoles: quels outils pour reprendre le contrôle de vos marges ?
DESCRIPTION:La volatilité des prix agricoles n’a jamais été aussi marquée\, touchant l’ensemble de la chaîne agroalimentaire. Pour relever ce défi majeur\, nous avons le plaisir de vous inviter à une table ronde dédiée aux nouvelles stratégies et solutions permettant de :\nProtéger efficacement agriculteurs\, coopératives\, industriels\, et distributeurs face aux fluctuations de prix\nSécuriser les marges et les revenus de chaque acteur pour une pérennité assurée dans la filière
URL:https://www.lafermedigitale.fr/event/volatilite-des-prix-agricoles-quels-outils-pour-reprendre-le-controle-de-vos-marges/
LOCATION:Hall 4 – Stand La Ferme Digitale (E080)
CATEGORIES:Élevage / Alimentation
ATTACH;FMTTYPE=image/png:https://www.lafermedigitale.fr/wp-content/uploads/2024/12/Agryco-3.png
END:VEVENT
BEGIN:VEVENT
DTSTART;TZID=Europe/Paris:20250226T130000
DTEND;TZID=Europe/Paris:20250226T140000
DTSTAMP:20260421T182037
CREATED:20250129T101605Z
LAST-MODIFIED:20250129T101605Z
UID:18756-1740574800-1740578400@www.lafermedigitale.fr
SUMMARY:Les légumineuses : levier de décarbonation de l’agriculture et des entreprises
DESCRIPTION:Animée par INTACT\, cette table ronde souhaite mettre en lumière les propriétés exceptionnelles des légumineuses en matière de fertilisation naturelle et de régénération des sols (comme mesuré scientifiquement par Génésis). Elles sont ainsi un levier majeur de la transition agricole et de la décarbonation de la coopérative Axéréal. Grâce à leur valorisation en alcool neutre bas-carbone par INTACT\, elles permettent également de contribuer à la décarbonation des entreprises de cosmétiques et spiritueux\, et notamment à celle de la Maison Cointreau. \nLes intervenants : \n\nLaetitia Delaye (Directrice Durabilité d’INTACT)\nJean-François Loiseau (Président d’Axéréal)\nAdrienne de Malleray (Co-fondatrice de Genesis)\nJean-Pascal Martin Festa (Directeur Achats de Rémy Cointreau)
URL:https://www.lafermedigitale.fr/event/les-legumineuses-levier-de-decarbonation-de-lagriculture-et-des-entreprises/
LOCATION:Hall 4 – Stand La Ferme Digitale (E080)
CATEGORIES:Élevage / Alimentation
ATTACH;FMTTYPE=image/png:https://www.lafermedigitale.fr/wp-content/uploads/2024/11/Intact-Regenerativecanva.png
END:VEVENT
BEGIN:VEVENT
DTSTART;TZID=Europe/Paris:20250226T140000
DTEND;TZID=Europe/Paris:20250226T150000
DTSTAMP:20260421T182037
CREATED:20250211T125233Z
LAST-MODIFIED:20250211T125233Z
UID:18850-1740578400-1740582000@www.lafermedigitale.fr
SUMMARY:Innover pour mieux élever : Quelles clés pour une adoption réussie ?
DESCRIPTION:L’innovation en élevage a fait ses preuves et pénètre de plus en plus dans les fermes pour créer de la valeur et s’adapter aux nouveaux enjeux. Les usages notamment des innovations technologiques se développent mais leurs adoptions restent toutefois un défi pour un certain nombre d’éleveurs.\nCette table ronde réunira éleveurs\, acteurs privés\, publics\, startups et associations afin de témoigner de l’usage de solutions concrètes qui fonctionnent et des freins qu’il reste encore à lever ensemble. \n 
URL:https://www.lafermedigitale.fr/event/innover-pour-mieux-elever-quelles-cles-pour-une-adoption-reussie/
LOCATION:Hall 4 – Stand La Ferme Digitale (E080)
CATEGORIES:Élevage / Alimentation
ATTACH;FMTTYPE=image/png:https://www.lafermedigitale.fr/wp-content/uploads/2020/01/Baoba.png
ORGANIZER;CN="BAOBA":MAILTO:contact@baoba.ag
END:VEVENT
BEGIN:VEVENT
DTSTART;TZID=Europe/Paris:20250226T160000
DTEND;TZID=Europe/Paris:20250226T170000
DTSTAMP:20260421T182037
CREATED:20250203T161546Z
LAST-MODIFIED:20250211T125412Z
UID:18799-1740585600-1740589200@www.lafermedigitale.fr
SUMMARY:Les défis économiques de la transition agricole peuvent-ils trouver des réponses dans le biométhane et l'agrivoltaïsme ?
DESCRIPTION:Autrefois\, on demandait à un agriculteur de produire pour nourrir la population\, aujourd’hui\, lui demande aussi de produire de l’énergie. Alors\, quels défis devront relever les agriculteurs ? Quels sont les avantages des énergies vertes pour les exploitations ? Comment financer et faire accepter ces investissements ? Découvrez deux pistes de diversification de revenus et les perspectives liées à l’agrivoltaïsme et à la méthanisation. \nIntervenants : \n\nLauriane PONTIE Chargée d’affaires\, Amarenco\nRami Hariri Délégué Biométhane\, GRDF\n\nAnimateur : \nTimothée DELACOURT\, Responsable Énergies Renouvelables\, MiiMOSA \n 
URL:https://www.lafermedigitale.fr/event/les-defis-economiques-de-la-transition-agricole-peuvent-ils-trouver-des-reponses-dans-le-biomethane-et-lagrivoltaisme/
LOCATION:Hall 4 – Stand La Ferme Digitale (E080)
CATEGORIES:Élevage / Alimentation
ATTACH;FMTTYPE=image/png:https://www.lafermedigitale.fr/wp-content/uploads/2016/11/MiiMOSA.png
ORGANIZER;CN="MiiMOSA":MAILTO:bonjour@miimosa.com
END:VEVENT
BEGIN:VEVENT
DTSTART;TZID=Europe/Paris:20250226T170000
DTEND;TZID=Europe/Paris:20250226T180000
DTSTAMP:20260421T182037
CREATED:20250214T163403Z
LAST-MODIFIED:20250214T180423Z
UID:18902-1740589200-1740592800@www.lafermedigitale.fr
SUMMARY:Le digital\, un levier d’innovation et d’efficience pour l’élevage et les coopératives agricoles
DESCRIPTION:Le digital transforme le monde de l’élevage\, offrant de nouvelles opportunités pour améliorer la performance des exploitations\, la durabilité des pratiques et le bien-être des éleveurs. \nLes coopératives jouent un rôle clé dans cette transition en s’appuyant sur l’expertise de l’union de coopératives CCPA et son réseau de partenaires. Ensemble\, elles développent des solutions numériques innovantes pour accompagner les éleveurs : outils de suivi\, conseils personnalisés et technologies de pointe. \nAnimée par Romain Faroux\, COO de La Ferme Digitale\, cette session abordera les enjeux du digital et les défis à relever dans les productions animales. \nVenez échanger avec nos intervenants et découvrir comment le digital façonne l’avenir de l’élevage : \n\nFrançois Ryckebusch\, Directeur des Productions Animales coopérative UNÉAL\nArnaud Wieczorek\, Directeur R&I CCPA\nJulie David\, Responsable Pôle DataFarm CCPA
URL:https://www.lafermedigitale.fr/event/le-digital-un-levier-dinnovation-et-defficience-pour-lelevage-et-les-cooperatives-agricoles/
LOCATION:Hall 4 – Stand La Ferme Digitale (E080)
CATEGORIES:Élevage / Alimentation
ATTACH;FMTTYPE=image/png:https://www.lafermedigitale.fr/wp-content/uploads/2024/04/CCPA-2.png
END:VEVENT
BEGIN:VEVENT
DTSTART;TZID=Europe/Paris:20250226T180000
DTEND;TZID=Europe/Paris:20250226T190000
DTSTAMP:20260421T182037
CREATED:20250211T165846Z
LAST-MODIFIED:20250213T140724Z
UID:18858-1740592800-1740596400@www.lafermedigitale.fr
SUMMARY:MilkTech x La Ferme Digitale\, 2 écosystèmes au service de la transformation de la filière laitière.
DESCRIPTION:Cette conférence sera dédiée aux partages d’expériences réussies entre MilkTech\, le premier écosystème d’innovation au service des défis de décarbonation et d’attractivité des entreprises du secteur laitier\, et La Ferme Digitale\, qui œuvre pour une agriculture performante\, durable et citoyenne grâce à l’innovation et au numérique. \nCe temps d’échange réunira start-ups\, entreprises de l’agroalimentaire et jeunes talents en quête de contrats d’alternance ou de premiers emplois.\nEnsemble\, ils partageront leurs bonnes pratiques\, leurs solutions innovantes pour favoriser les synergies pour un avenir plus durable et connecté et les opportunités de demain pour transformer les secteurs de l’agriculture et de l’agroalimentaire. \nLes intervenants : \n– François-Xavier Huard\, président directeur général de la Fédération nationale de l’industrie laitière\,\n– Florian Breton\, fondateur de MiiMOSA\,\n– Sebastien Latz\, directeur général de Coldep\, Technologie brevetée de traitement d’eaux\,\n– Jérémie Wainstain\, head of science de CarbonMaps\,\n– Sébastien Floc’h\, directeur général de Sill entreprises\,\n– Jérémie Vandenbroucke\, Directeur de la BU lait chez Danone.
URL:https://www.lafermedigitale.fr/event/milktech-x-la-ferme-digitale-2-ecosystemes-au-service-de-la-transformation-de-la-filiere-laitiere/
LOCATION:Hall 4 – Stand La Ferme Digitale (E080)
CATEGORIES:Élevage / Alimentation
ATTACH;FMTTYPE=image/png:https://www.lafermedigitale.fr/wp-content/uploads/2025/02/MilkTech_Fnil.png
END:VEVENT
END:VCALENDAR