BEGIN:VCALENDAR
VERSION:2.0
PRODID:-//La Ferme Digitale - ECPv5.12.2//NONSGML v1.0//EN
CALSCALE:GREGORIAN
METHOD:PUBLISH
X-WR-CALNAME:La Ferme Digitale
X-ORIGINAL-URL:https://www.lafermedigitale.fr
X-WR-CALDESC:évènements pour La Ferme Digitale
REFRESH-INTERVAL;VALUE=DURATION:PT1H
X-Robots-Tag:noindex
X-PUBLISHED-TTL:PT1H
BEGIN:VTIMEZONE
TZID:Europe/Paris
BEGIN:DAYLIGHT
TZOFFSETFROM:+0100
TZOFFSETTO:+0200
TZNAME:CEST
DTSTART:20250330T010000
END:DAYLIGHT
BEGIN:STANDARD
TZOFFSETFROM:+0200
TZOFFSETTO:+0100
TZNAME:CET
DTSTART:20251026T010000
END:STANDARD
END:VTIMEZONE
BEGIN:VEVENT
DTSTART;TZID=Europe/Paris:20250225T090000
DTEND;TZID=Europe/Paris:20250225T100000
DTSTAMP:20260421T182027
CREATED:20250220T090225Z
LAST-MODIFIED:20250220T090642Z
UID:19149-1740474000-1740477600@www.lafermedigitale.fr
SUMMARY:Quelles technologies pour une agriculture bas carbone\, résiliente et prospère ?
DESCRIPTION:Avec Corentin LEROUX – Chef de projet – Technologie & Agriculture\, The Shift Project \n 
URL:https://www.lafermedigitale.fr/event/quelles-technologies-pour-une-agriculture-bas-carbone-resiliente-et-prospere/
LOCATION:Hall 4 – Stand La Ferme Digitale (E080)
CATEGORIES:IA
ATTACH;FMTTYPE=image/png:https://www.lafermedigitale.fr/wp-content/uploads/2025/02/the-shift-project-v2.png
END:VEVENT
BEGIN:VEVENT
DTSTART;TZID=Europe/Paris:20250225T100000
DTEND;TZID=Europe/Paris:20250225T110000
DTSTAMP:20260421T182027
CREATED:20250214T180715Z
LAST-MODIFIED:20250214T180715Z
UID:18914-1740477600-1740481200@www.lafermedigitale.fr
SUMMARY:Réussir sa trajectoire climat
DESCRIPTION:Animée par Roger Averbuch\, Associé KPMG \nIntervenants de la table ronde : \n\nDidier Livio\, Co-fondateur et CEO de FoodPilot\nOlivier Clyti\, Directeur Stratégie\, RSE et Digital\, membre du COMEX chez InVivo\nFrédéric Chausson\, Directeur des Relations extérieurs et du Développement Durable\, membre du COMEX de Sodiaal
URL:https://www.lafermedigitale.fr/event/reussir-sa-trajectoire-climat/
LOCATION:Hall 4 – Stand La Ferme Digitale (E080)
CATEGORIES:IA
ATTACH;FMTTYPE=image/png:https://www.lafermedigitale.fr/wp-content/uploads/2023/01/KPMG.png
END:VEVENT
BEGIN:VEVENT
DTSTART;TZID=Europe/Paris:20250225T110000
DTEND;TZID=Europe/Paris:20250225T120000
DTSTAMP:20260421T182027
CREATED:20250123T163240Z
LAST-MODIFIED:20250203T162307Z
UID:18559-1740481200-1740484800@www.lafermedigitale.fr
SUMMARY:Suivi des cultures par satellite : quand la transition change d'échelle
DESCRIPTION:En pleine accélération\, les programmes de transition agricole requièrent aujourd’hui des données de pilotage objectives couvrant des centaines d’exploitations. C’est le défi relevé par Kermap grâce au suivi satellite des cultures et de la couverture des sols\, scalable de la parcelle au territoire grâce à l’IA. Une solution adoptée par le groupe coopératif Vivescia pour accompagner Transitions\, le premier programme à impact à grande échelle de France. \nIntervenants :  \nAlexandre Viennot\, responsable commercial\, Kermap\nArmand Gandon\, Chef de projet Bas Carbone et TRANSITIONS\, Groupe Vivescia\nIsabelle Sucra-Testu\, Directrice RSE\, Heineken France
URL:https://www.lafermedigitale.fr/event/suivi-des-cultures-par-satellite-quand-la-transition-change-dechelle/
LOCATION:Hall 4 – Stand La Ferme Digitale (E080)
CATEGORIES:IA
ATTACH;FMTTYPE=image/png:https://www.lafermedigitale.fr/wp-content/uploads/2022/05/Kermap.png
ORGANIZER;CN="Kermap":MAILTO:hello@kermap.com
END:VEVENT
BEGIN:VEVENT
DTSTART;TZID=Europe/Paris:20250225T120000
DTEND;TZID=Europe/Paris:20250225T130000
DTSTAMP:20260421T182027
CREATED:20250129T095955Z
LAST-MODIFIED:20250129T095955Z
UID:18748-1740484800-1740488400@www.lafermedigitale.fr
SUMMARY:La santé prend racine sous nos pieds\, là où des sols vivants nourrissent l'avenir.
DESCRIPTION:La santé de nos sols et celle des humains sont intimement liées. De la qualité nutritionnelle de nos aliments à notre microbiote\, l’état de nos terres influence directement notre bien-être. À l’heure où les sols se dégradent à un rythme alarmant\, comprendre ces liens devient crucial pour notre avenir. C’est notre capacité à nous nourrir sainement et à nous maintenir en bonne santé qui est en jeu.
URL:https://www.lafermedigitale.fr/event/la-sante-prend-racine-sous-nos-pieds-la-ou-des-sols-vivants-nourrissent-lavenir-2/
LOCATION:Hall 4 – Stand La Ferme Digitale (E080)
CATEGORIES:IA
ATTACH;FMTTYPE=image/png:https://www.lafermedigitale.fr/wp-content/uploads/2025/01/Mycophyto.png
ORGANIZER;CN="MyCophyto":MAILTO:contact@mycophyto.fr
END:VEVENT
BEGIN:VEVENT
DTSTART;TZID=Europe/Paris:20250225T130000
DTEND;TZID=Europe/Paris:20250225T140000
DTSTAMP:20260421T182027
CREATED:20250129T100258Z
LAST-MODIFIED:20250219T103451Z
UID:18750-1740488400-1740492000@www.lafermedigitale.fr
SUMMARY:Gestion collective et dynamique de l’irrigation : organiser les prélèvements agricoles au plus près des besoins des plantes et des disponibilités réelles en eau grâce à une gestion prédictive basée sur les données et l’intelligence artificielle
DESCRIPTION:Dans un contexte de croissance des besoins hydriques et de volatilité grandissante des disponibilités en eau\, l’ajustement des prélèvements agricoles au plus près des besoins des plantes et des disponibilités réelles en eau s’impose comme une solution prometteuse d’adaptation de l’irrigation au changement climatique. \nCette conférence explore les promesses de la gestion collective et dynamique de l’irrigation\, une approche innovante qui utilise les données et les prévisions en temps réel\, la modélisation et l’intelligence artificielle pour optimiser les prélèvements d’eau. En ajustant les autorisations de prélèvements en cours de campagne selon les besoins réels des plantes et les disponibilités en eau\, cette méthode permet une utilisation plus efficace et durable des ressources hydriques. \nLes intervenants présenteront les approches collaborative mises en place pour concevoir et tester des solutions de gestion dynamique appliquée à l’irrigation. Ils partageront leurs expériences\, les avancées technologiques et les projets en cours\, tout en discutant des bénéfices attendus pour l’agriculture et l’environnement. \nLes intervenants : \n\nAndré Chanzy – Directeur de recherche à l’INRAE\nEric Gaume – Directeur du département GERS au sein de l’Université Gustave Eiffel\nDominique Theriez – Directeur général associé chez aQuasys\nNicolas Pihée – Conseiller spécialisé Eau-Irrigation à la Chambre d’agriculture Pays de la Loire\nThierry Chaillou – Agriculteur en Maine-et-Loire ( producteur d’échalotes de consommation et de plants certifiés à Charcé-Saint-Ellier en Maine-et-Loire )\nCécile Gallart – Chef de produit Agri chez aQuasys
URL:https://www.lafermedigitale.fr/event/gestion-dynamique-de-lirrigation-collective-comment-organiser-les-prelevements-agricoles-au-plus-pres-des-besoins-des-plantes-et-des-disponibilites-reelles-en-eau/
LOCATION:Hall 4 – Stand La Ferme Digitale (E080)
CATEGORIES:IA
ATTACH;FMTTYPE=image/png:https://www.lafermedigitale.fr/wp-content/uploads/2024/04/Aquasys.png
END:VEVENT
BEGIN:VEVENT
DTSTART;TZID=Europe/Paris:20250225T140000
DTEND;TZID=Europe/Paris:20250225T144000
DTSTAMP:20260421T182027
CREATED:20250123T163341Z
LAST-MODIFIED:20250203T102024Z
UID:18553-1740492000-1740494400@www.lafermedigitale.fr
SUMMARY:Données météo et performance agricole : comment les coopératives et les filières innovent ?
DESCRIPTION:Optimiser les rendements\, gérer durablement l’eau\, anticiper les maladies ou les aléas climatiques : autant d’enjeux cruciaux pour les coopératives et les filières agricoles\, qui sont plus que jamais liés aux conditions météo et climatiques.\nLors de cette conférence\, nos intervenants partageront leurs expériences et leurs réussites. Avec le soutien des solutions Weenat\, ils relèvent ces défis au quotidien et transforment leurs pratiques pour bâtir une agriculture plus performante et durable.\nPlongez dans des retours d’expérience concrets et découvrez comment Weenat contribue à façonner l’agriculture de demain.
URL:https://www.lafermedigitale.fr/event/donnees-meteo-et-performance-agricole-comment-les-cooperatives-et-les-filieres-innovent/
LOCATION:Hall 4 – Stand La Ferme Digitale (E080)
CATEGORIES:IA
ATTACH;FMTTYPE=image/png:https://www.lafermedigitale.fr/wp-content/uploads/2025/01/Weenat.png
END:VEVENT
BEGIN:VEVENT
DTSTART;TZID=Europe/Paris:20250225T144000
DTEND;TZID=Europe/Paris:20250225T152000
DTSTAMP:20260421T182027
CREATED:20250123T163325Z
LAST-MODIFIED:20250203T142221Z
UID:18555-1740494400-1740496800@www.lafermedigitale.fr
SUMMARY:L’IA au service des agriculteurs : 10 ans de données satellitaires pour plus de performance
DESCRIPTION:À l’heure où le programme Copernicus nous permet de requêter plus de 10 ans de donnée satellitaire et où l’IA est plus performante que jamais\, de nouvelles opportunités apparaissent pour les agriculteurs engagés dans l’agriculture de précision. Une de ces opportunités est l’analyse intraparcellaire du potentiel intrinsèque grâce aux séries temporelles. \nIntervenants: \n– Grégoire (Abelio)\n– Alain Ferrie\, responsable agronomique à la CAPA (Coopérative Agricole de la Plaine de l’Ariège). \nAnimateur: Bernard Ader
URL:https://www.lafermedigitale.fr/event/lia-au-service-des-agriculteurs-10-ans-de-donnees-satellitaires-pour-plus-de-performance/
LOCATION:Hall 4 – Stand La Ferme Digitale (E080)
CATEGORIES:IA
ATTACH;FMTTYPE=image/png:https://www.lafermedigitale.fr/wp-content/uploads/2024/12/Abelio.png
END:VEVENT
BEGIN:VEVENT
DTSTART;TZID=Europe/Paris:20250225T152000
DTEND;TZID=Europe/Paris:20250225T160000
DTSTAMP:20260421T182027
CREATED:20250124T162629Z
LAST-MODIFIED:20250202T220035Z
UID:18598-1740496800-1740499200@www.lafermedigitale.fr
SUMMARY:IA Agricole\, gadget à la C**
DESCRIPTION:Lors de cette conférence dépoussiérante\, Luc Julia\, acteur de renommée internationale\, co-créateur de Siri\, ancien directeur de l’innovation chez Samsung et actuel directeur scientifique du groupe Renault\, échangera avec Charles Terrey\, co-fondateur de TerraGrow et agriculteur\, sur le rôle concret de l’intelligence artificielle dans le secteur agricole. \nDans un contexte socio-économique complexe\, où les agriculteurs perçoivent certaines technologies comme des gadgets éloignés de leurs réalités\, cette discussion posera une question essentielle : l’IA peut-elle devenir un levier d’adoption technologique\, en simplifiant la complexité administrative et en maximisant l’impact pratique\, plutôt que d’être une innovation gadgetisée ? Peut-elle accompagner les professionnels du secteur pour transformer leur quotidien et favoriser une adoption durable des solutions logicielles ? \nCe moment d’échange unique promet de révéler des perspectives nouvelles\, avec l’annonce de solutions concrètes pour réconcilier innovation et terrain. Une conférence à ne pas manquer\, où pragmatisme et vision futuriste se rencontreront pour imaginer l’avenir de l’agriculture augmentée par l’IA. \nIntervenants:  \n– Luc JULIA : Ingénieur franco-américain\, co-créateur de Siri vendu à Apple\, ancien CTO et vice-président de l’innovation chez Samsung\, aujourd’hui directeur scientifique du groupe Renault. \n– Charles TERREY : Agriculteur et co-fondateur de TerraGrow\, la solution de gestion intégrale des exploitations agricole\, augmentée par l’IA.
URL:https://www.lafermedigitale.fr/event/lintelligence-artificielle-remplacera-t-elle-les-conseillers-agricoles/
LOCATION:Hall 4 – Stand La Ferme Digitale (E080)
CATEGORIES:IA
ATTACH;FMTTYPE=image/png:https://www.lafermedigitale.fr/wp-content/uploads/2024/11/TerraGrow-1.png
END:VEVENT
BEGIN:VEVENT
DTSTART;TZID=Europe/Paris:20250225T160000
DTEND;TZID=Europe/Paris:20250225T170000
DTSTAMP:20260421T182027
CREATED:20250128T095300Z
LAST-MODIFIED:20250128T095300Z
UID:18664-1740499200-1740502800@www.lafermedigitale.fr
SUMMARY:Agriculture connectée : télémédecine / téléenseignement\, faisons évoluer les pratiques en élevage
DESCRIPTION:Découvrez comment les nouvelles technologies transforment le quotidien des éleveurs\, grâce à la télémédecine vétérinaire qui permet un suivi à distance des animaux\, et au téléenseignement\, qui facilite l’accès à des formations innovantes. Cette conférence montre comment ces outils numériques optimisent la santé animale\, améliorent la rentabilité et soutiennent une agriculture plus durable. Une occasion unique de comprendre comment l’innovation peut révolutionner vos pratiques d’élevage !
URL:https://www.lafermedigitale.fr/event/agriculture-connectee-telemedecine-teleenseignement-faisons-evoluer-les-pratiques-en-elevage/
LOCATION:Hall 4 – Stand La Ferme Digitale (E080)
CATEGORIES:IA
ATTACH;FMTTYPE=image/png:https://www.lafermedigitale.fr/wp-content/uploads/2025/01/Etablieres.png
END:VEVENT
BEGIN:VEVENT
DTSTART;TZID=Europe/Paris:20250225T170000
DTEND;TZID=Europe/Paris:20250225T190000
DTSTAMP:20260421T182027
CREATED:20250219T143659Z
LAST-MODIFIED:20250219T144259Z
UID:19137-1740502800-1740510000@www.lafermedigitale.fr
SUMMARY:Hackathon GAIA : Restitutions des projets
DESCRIPTION:Après 2 jours de travail intenses\, les différentes équipes du Hackathon GAIA vont présenter leurs projets devant un panel d’experts. \nEn savoir plus sur le Hackathon : https://www.lafermedigitale.fr/gaia/
URL:https://www.lafermedigitale.fr/event/hackathon-gaia-restitutions-des-projets/
LOCATION:Hall 4 – Stand La Ferme Digitale (E080)
CATEGORIES:IA
ATTACH;FMTTYPE=image/png:https://www.lafermedigitale.fr/wp-content/uploads/2024/01/Logo-GAIA-fond-bleu.png
END:VEVENT
END:VCALENDAR