BEGIN:VCALENDAR
VERSION:2.0
PRODID:-//La Ferme Digitale - ECPv5.12.2//NONSGML v1.0//EN
CALSCALE:GREGORIAN
METHOD:PUBLISH
X-WR-CALNAME:La Ferme Digitale
X-ORIGINAL-URL:https://www.lafermedigitale.fr
X-WR-CALDESC:évènements pour La Ferme Digitale
REFRESH-INTERVAL;VALUE=DURATION:PT1H
X-Robots-Tag:noindex
X-PUBLISHED-TTL:PT1H
BEGIN:VTIMEZONE
TZID:Europe/Paris
BEGIN:DAYLIGHT
TZOFFSETFROM:+0100
TZOFFSETTO:+0200
TZNAME:CEST
DTSTART:20240331T010000
END:DAYLIGHT
BEGIN:STANDARD
TZOFFSETFROM:+0200
TZOFFSETTO:+0100
TZNAME:CET
DTSTART:20241027T010000
END:STANDARD
END:VTIMEZONE
BEGIN:VEVENT
DTSTART;TZID=Europe/Paris:20240226T090000
DTEND;TZID=Europe/Paris:20240226T095500
DTSTAMP:20260421T104228
CREATED:20240127T164700Z
LAST-MODIFIED:20240206T144525Z
UID:15842-1708938000-1708941300@www.lafermedigitale.fr
SUMMARY:Comment consolider la confiance dans les marchés du carbone agricole ?
DESCRIPTION:Presque 1 an après les révélations de la presse internationale sur la vaste commercialisation de « crédits fantômes » et alors que les institutions européennes veulent mettre en place un cadre européen pour les crédits carbone agricoles et pour les allégations de durabilité des entreprises\, comment installer la confiance parmi les acteurs pour soutenir ces transformations ? Quel rôle pour les plates-formes\, pour les pouvoirs publics et pour les acheteurs ? \nAvec : \n\nMathieu TOULEMONDE\, CEO et Fondateur\, Agoterra\nFélix NOBLIA\, paysan-chercheur\, Co-fondateur ReGeneration\nCaroline PLOUX\, Senior Manager Public Affairs Europe\, Mars\nModérateur : Axel de Martene Managing Director Climate Agriculture Alliance\n\nS’inscrire à la conférence : https://go.myeasyfarm.com/inscription-CAA-conference-sia-2024
URL:https://www.lafermedigitale.fr/event/comment-reconstruire-la-confiance-dans-les-marches-du-carbone-agricole/
LOCATION:Hall 4 – Stand La Ferme Digitale (E074)
CATEGORIES:Alimentation / Filière
ATTACH;FMTTYPE=image/png:https://www.lafermedigitale.fr/wp-content/uploads/2023/01/Climate-Agriculture-Alliance.png
END:VEVENT
BEGIN:VEVENT
DTSTART;TZID=Europe/Paris:20240226T100000
DTEND;TZID=Europe/Paris:20240226T105500
DTSTAMP:20260421T104228
CREATED:20240127T164848Z
LAST-MODIFIED:20240201T092909Z
UID:15845-1708941600-1708944900@www.lafermedigitale.fr
SUMMARY:Comment permettre aux organisations de producteurs de valoriser leurs données carbone ?
DESCRIPTION:Avec : \n\nJérémie Wainstain – Cofondateur et directeur scientifique chez Carbon Maps\,\nFrédéric Dorilleau – Éleveur laitier dans le Loir et Cher et président de l’Association des Producteurs Bel de l’Ouest
URL:https://www.lafermedigitale.fr/event/comment-permettre-aux-organisations-de-producteurs-de-valoriser-leurs-donnees-carbone/
LOCATION:Hall 4 – Stand La Ferme Digitale (E074)
CATEGORIES:Alimentation / Filière
ATTACH;FMTTYPE=image/png:https://www.lafermedigitale.fr/wp-content/uploads/2023/04/CarbonMaps.png
END:VEVENT
BEGIN:VEVENT
DTSTART;TZID=Europe/Paris:20240226T110000
DTEND;TZID=Europe/Paris:20240226T115500
DTSTAMP:20260421T104228
CREATED:20240127T165219Z
LAST-MODIFIED:20240206T144256Z
UID:15847-1708945200-1708948500@www.lafermedigitale.fr
SUMMARY:Agriculture régénératrice : réduire le Scope 3 et produire plus durablement\, sur l'ensemble de la Supply Chain agricole.
DESCRIPTION:Depuis plus d’une décennie\, l’Agriculture Régénérative\, souvent connue sous le nom de RegenAg ou RegAg\, est devenue une solution pour répondre aux enjeux climatiques\, environnementaux et sociaux de notre époque aussi bien pour les agriculteurs que pour les entreprises. \n\nQu’est-ce que l’Agriculture Régénératrice ?\nEst-ce une tendance de fond ou un phénomène de mode ?\nComment contribue-t-elle à agir sur les émissions SCOPE 3 d’une entreprise ?\nEn quoi permette-t-elle de sécuriser la chaîne d’approvisionnement des entreprises agroalimentaires (coopératives\, grands groupes…) ?\nQui finance ?\n\nPour y réfléchir\, MyEasyFarm\, l’expert technique et digital à la mise en place de programmes d’Agriculture Régénératrice\, a invité lors d’une table ronde animée par Marie-Cécile DAMAVE\, Responsable innovations et affaires internationales chez Agridées\, des experts\, agronomes et acteurs de la filière agroalimentaire : \n\nSébastien ROUMEGOUS\, CEO Biospheres\nNicolas FERRIERE\, Directeur des opérations Carbonapp\nJulien COIGNAC\, Coordinateur RSE Cristal Union\nFrançois THIERART\, CEO & co-fondateur MyEasyFarm\n\nS’inscrire à la conférence : https://go.myeasyfarm.com/inscription-conference-sia-2024
URL:https://www.lafermedigitale.fr/event/agriculture-regeneratrice-reduire-le-scope-3-et-produire-plus-durablement-sur-lensemble-de-la-supply-chain-agricole/
LOCATION:Hall 4 – Stand La Ferme Digitale (E074)
CATEGORIES:Alimentation / Filière
ATTACH;FMTTYPE=image/jpeg:https://www.lafermedigitale.fr/wp-content/uploads/2019/08/myesayfarm.jpg
ORGANIZER;CN="MyEasyFarm":MAILTO:contact@myeasyfarm.com
END:VEVENT
BEGIN:VEVENT
DTSTART;TZID=Europe/Paris:20240226T120000
DTEND;TZID=Europe/Paris:20240226T125500
DTSTAMP:20260421T104228
CREATED:20240127T165336Z
LAST-MODIFIED:20240222T131028Z
UID:15849-1708948800-1708952100@www.lafermedigitale.fr
SUMMARY:Agrivoltaïsme : quel impact sur l’agriculture ? Retours d’expériences pour les filières : arboriculture\, grandes cultures\, élevage.
DESCRIPTION:Avec : \n\nBenoit Moreau\, Directeur du Développement\, Société du Canal de Provence (SCP)\,\nBenjamin Tiffon-Terrade\, Ingénieur R&D – Docteur en adaptation végétale et écophysiologie\, chez Onetech\,\nXavier Riveau\, Chargé d’Affaires Agricoles\, chez TotalEnergies\,\nMaïlys Ocana\, Chargée de projets agrivoltaïques\, chez Ombrea.
URL:https://www.lafermedigitale.fr/event/agri-energies-agrivoltaisme-en-quoi-nos-solutions-contribuent-a-perenniser-lexploitation-agricole/
LOCATION:Hall 4 – Stand La Ferme Digitale – Espace Receptif
CATEGORIES:Alimentation / Filière
ATTACH;FMTTYPE=image/png:https://www.lafermedigitale.fr/wp-content/uploads/2021/01/Ombrea.png
ORGANIZER;CN="Ombrea":MAILTO:lmorellab@ombrea.fr
END:VEVENT
BEGIN:VEVENT
DTSTART;TZID=Europe/Paris:20240226T130000
DTEND;TZID=Europe/Paris:20240226T135500
DTSTAMP:20260421T104228
CREATED:20240127T165527Z
LAST-MODIFIED:20240213T175918Z
UID:15851-1708952400-1708955700@www.lafermedigitale.fr
SUMMARY:Impliquer l'ensemble de sa chaine de valeur dans la transition agricole.
DESCRIPTION:Table-ronde regroupant plusieurs acteurs du monde coopératif agricole ainsi que de l’aval. Témoignages et débats autour de leurs expériences de la transition et du nécessaire alignement de tous pour la réussir. \n\n– Quelles demandes de l’aval (industrie\, grande distribution) ?\n– Comment construire le bon prix ?\n– Est-ce la demande qui crée l’offre ou l’inverse ?\n– Comment convaincre les agriculteurs d’y aller ?\n\nAvec : \n\nVincent Gregoire\, responsable durabilité chez Tereos\,\nPaul Getti\, responsable filières de Moulin Marion\,\nAlexandre Juan\, carbone manager chez Axereal\,\nGuillaume Gasc\, responsable innovation chez Eureden\,\n\nAnimé par\, Jean-Marc Lévy\, Co-fondateur de Carbone Farmers
URL:https://www.lafermedigitale.fr/event/impliquer-lensemble-de-sa-chaine-de-valeur-dans-la-transition-agricole/
LOCATION:Hall 4 – Stand La Ferme Digitale (E074)
CATEGORIES:Alimentation / Filière
ATTACH;FMTTYPE=image/png:https://www.lafermedigitale.fr/wp-content/uploads/2022/10/Carbon-Farmers.png
ORGANIZER;CN="Carbone%20Farmers":MAILTO:contact@carbonefarmers.com
END:VEVENT
BEGIN:VEVENT
DTSTART;TZID=Europe/Paris:20240226T140000
DTEND;TZID=Europe/Paris:20240226T144400
DTSTAMP:20260421T104228
CREATED:20240212T153232Z
LAST-MODIFIED:20240212T153232Z
UID:16131-1708956000-1708958640@www.lafermedigitale.fr
SUMMARY:Cultiver une terre prospère\, source de bien-être durable
DESCRIPTION:Une conversation animée réunissant quatre passionnés de l’agriculture\, tous engagés de la ferme à la table\, autour du thème commun du travail de la terre et de l’essentiel de ses ressources. Pendant une demi-heure\, ils mettront en lumière l’importance cruciale de privilégier des produits hautement performants pour garantir le meilleur pour tous : la préservation de la planète\, le plaisir gustatif\, et le bien-être individuel. Au cœur de cette discussion\, l’impact du changement climatique et les solutions pour y faire face seront largement explorés.
URL:https://www.lafermedigitale.fr/event/cultiver-une-terre-prospere-source-de-bien-etre-durable/
LOCATION:Hall 4 – Stand La Ferme Digitale (E074)
CATEGORIES:Alimentation / Filière
ATTACH;FMTTYPE=image/png:https://www.lafermedigitale.fr/wp-content/uploads/2022/01/Ynsect-1.png
END:VEVENT
BEGIN:VEVENT
DTSTART;TZID=Europe/Paris:20240226T150000
DTEND;TZID=Europe/Paris:20240226T155500
DTSTAMP:20260421T104228
CREATED:20240208T152406Z
LAST-MODIFIED:20240223T165821Z
UID:16094-1708959600-1708962900@www.lafermedigitale.fr
SUMMARY:Comment s’assurer d’une transition environnementale durable ?
DESCRIPTION:Si les enjeux climatiques ne sont plus à démontrer ni l’importante contribution du secteur agricole\, il n’en reste pas moins que les leviers doivent s’inscrire dans une gestion pérenne de chaque exploitation agricole. Production d’énergie renouvelable au sein de sa ferme\, compensation carbone\, … pour se garantir une transition environnementale\, ces projets se préparent et s’accompagnent dans la durée. \nAvec : \n\nOlivier PARDESSUS – Responsable des offres et services Marché Agricole – GROUPAMA\nThomas Martal\, CEO de Stock CO2\n\nAnimé par Louise Lesparre\, La clé des Champs.
URL:https://www.lafermedigitale.fr/event/comment-sassurer-dune-transition-environnementale-durable/
LOCATION:Hall 4 – Stand La Ferme Digitale (E074)
CATEGORIES:Alimentation / Filière
ATTACH;FMTTYPE=image/png:https://www.lafermedigitale.fr/wp-content/uploads/2022/01/Groupama.png
END:VEVENT
BEGIN:VEVENT
DTSTART;TZID=Europe/Paris:20240226T160000
DTEND;TZID=Europe/Paris:20240226T165500
DTSTAMP:20260421T104228
CREATED:20240208T152717Z
LAST-MODIFIED:20240222T164304Z
UID:16096-1708963200-1708966500@www.lafermedigitale.fr
SUMMARY:Pas de transition sans financement : Comment valoriser le carbone agricole\, aujourd'hui et demain\, pour engager les agriculteurs ?
DESCRIPTION:Les crédits carbone en agriculture génèrent parfois doutes et interrogations. Décriés par certains comme peu rémunérateurs et à la traçabilité incertaine\, utilisés par d’autres comme « droits à polluer »\, ils pourraient être perçus\, de prime abord\, comme une occasion de s’offrir une conscience écologique sans changement substantiel. Cette conférence permettra de faire le point sur l’intérêt des initiatives en cours et leurs limites actuelles\, les nouveaux mécanismes mis en place pour permettre de garantir leur valeur et leur unicité\, ainsi que les nouvelles approches de contribution directe à la lutte contre le changement climatique (certificats d’impact positif englobant le carbone mais aussi la biodiversité\, l’eau et les bénéfices pour les communautés locales). Nous explorerons les voies de valorisation du carbone agricole au service d’une transition réelle et durable de la ferme France et la manière d’engager les agriculteurs dans ces pratiques durables\, en évitant les écueils des crédits carbone existants. \nAvec : \n\nJulien Guichard\, Carbon Credit Registry\,\nEmélie Halle\, SAIPOL\,\nThomas Rabant\, ReGeneration.
URL:https://www.lafermedigitale.fr/event/pas-de-transition-sans-financement-comment-valoriser-le-carbone-agricole-aujourdhui-et-demain-pour-engager-les-agriculteurs/
LOCATION:Hall 4 – Stand La Ferme Digitale (E074)
CATEGORIES:Alimentation / Filière
ATTACH;FMTTYPE=image/png:https://www.lafermedigitale.fr/wp-content/uploads/2022/01/Onepoint.png
END:VEVENT
BEGIN:VEVENT
DTSTART;TZID=Europe/Paris:20240226T170000
DTEND;TZID=Europe/Paris:20240226T174000
DTSTAMP:20260421T104228
CREATED:20240222T153824Z
LAST-MODIFIED:20240222T154051Z
UID:16246-1708966800-1708969200@www.lafermedigitale.fr
SUMMARY:Présentation volet export - France 2030
DESCRIPTION:Business France et le Secrétariat général pour l’investissement (SGPI) ont signé une convention de partenariat stratégique qui dote France 2030 d’une dimension résolument internationale. Ce partenariat vise à aligner la stratégie de commerce extérieur de la France avec les priorités sectorielles de réindustrialisation et les objectifs de France 2030\, intégrant ainsi commerce\, attractivité et export dans la vision économique future du pays. \nPrésentation du programme avec : \n\nBruno BONNELL\, secrétaire général pour l’investissement\nLaurent SAINT-MARTIN\, directeur général de Business France
URL:https://www.lafermedigitale.fr/event/presentation-volet-export-france-2030/
LOCATION:Hall 4 – Stand La Ferme Digitale (E074)
CATEGORIES:Alimentation / Filière
ATTACH;FMTTYPE=image/png:https://www.lafermedigitale.fr/wp-content/uploads/2019/02/Business_France_logo_2015.svg_.png
END:VEVENT
BEGIN:VEVENT
DTSTART;TZID=Europe/Paris:20240226T180000
DTEND;TZID=Europe/Paris:20240226T185500
DTSTAMP:20260421T104228
CREATED:20240208T152859Z
LAST-MODIFIED:20240208T153257Z
UID:16098-1708970400-1708973700@www.lafermedigitale.fr
SUMMARY:Parcours d’un agriculteur qui se lance dans l’agrivoltaïsme – Retour d’expérience
DESCRIPTION:
URL:https://www.lafermedigitale.fr/event/parcours-dun-agriculteur-qui-se-lance-dans-lagrivoltaisme-retour-dexperience/
LOCATION:Hall 4 – Stand La Ferme Digitale (E074)
CATEGORIES:Alimentation / Filière
ATTACH;FMTTYPE=image/png:https://www.lafermedigitale.fr/wp-content/uploads/2024/02/FFPA.png
END:VEVENT
END:VCALENDAR